Felt | Verdi |
AlreadyApplied | True |
Aperture | 3.5 |
ApertureValue | 3.5 |
ApproximateFocusDistance | 1.61 |
Artist | Tore Aasland |
AutoLateralCA | 1 |
AutoWhiteVersion | 134348800 |
BitsPerSample | 8 |
Blacks2012 | 0 |
BlueHue | 0 |
BlueSaturation | 0 |
By-line | Tore Aasland |
CameraProfile | Adobe Standard |
CircleOfConfusion | 0.011 mm |
Clarity2012 | +62 |
ColorComponents | 3 |
ColorNoiseReduction | 76 |
ColorNoiseReductionDetail | 50 |
ColorNoiseReductionSmoothness | 50 |
ColorSpace | sRGB |
ColorTemperature | 6350 |
ColorTransform | YCbCr |
Contrast2012 | 0 |
ConvertToGrayscale | True |
Copyright | Tore Aasland |
CopyrightNotice | Tore Aasland |
CreateDate (1) | 2015:06:18 20:58:24.00 |
CreateDate | 2015:06:18 20:58:24 |
Creator | Tore Aasland |
CreatorTool | Adobe Photoshop Lightroom 5.7 (Macintosh) |
CropAngle | 0.7 |
CropBottom | 0.99951 |
CropConstrainToWarp | 0 |
CropLeft | 0.066483 |
CropRight | 0.887964 |
CropTop | 0.156104 |
CustomRendered | Normal |
DateCreated (1) | 2015:06:18 |
DateCreated | 2015:06:18 20:58:24.00 |
DateTimeOriginal | 2015:06:18 20:58:24 |
DOF | 0.15 m (1.54 - 1.69 m) |
Exposure2012 | -0.45 |
ExposureCompensation | 0 |
ExposureMode | Manual |
ExposureProgram | Manual |
ExposureTime | 1/160 |
Firmware | 1.1.2 |
Flash | Off, Did not fire |
FlashCompensation | 0 |
FNumber | 3.5 |
FocalLength | 36.0 mm |
FocalLength35efl | 36.0 mm (35 mm equivalent: 101.3 mm) |
Format | image/jpeg |
FOV | 20.2 deg |
GrainAmount | 0 |
GrayMixerAqua | -24 |
GrayMixerBlue | -46 |
GrayMixerGreen | -26 |
GrayMixerMagenta | +11 |
GrayMixerOrange | -8 |
GrayMixerPurple | +14 |
GrayMixerRed | -8 |
GrayMixerYellow | -43 |
GreenHue | 0 |
GreenSaturation | 0 |
HasCrop | True |
HasExtendedXMP | 724C93A45210A5534DD10EE0D02428C3 |
HasSettings | True |
Highlights2012 | +35 |
HyperfocalDistance | 34.66 m |
ImageHeight | 1365 |
ImageNumber | 0 |
ImageSize | 2048x1365 |
ImageWidth | 2048 |
ISO | 160 |
Lens | 24-70mm |
LensID (1) | 137 |
LensID | Sigma 24-70mm f/2.8 IF EX DG HSM or Tamron SP 24-70mm f/2.8 Di VC USD |
LensInfo | 24-70mm f/? |
LensManualDistortionAmount | 0 |
LensModel | 24-70mm |
LensProfileChromaticAberrationScale | 100 |
LensProfileDistortionScale | 100 |
LensProfileEnable | 1 |
LensProfileFilename | Canon (Sigma_24-70mm_F2.8_IF_EX_DG_HSM ) - RAW.lcp |
LensProfileName | Adobe (SIGMA 24-70mm F2.8 IF EX DG HSM, Canon) |
LensProfileSetup | LensDefaults |
LensProfileVignettingScale | 100 |
LensSerialNumber | 0000000000 |
LightValue | 10.3 |
LuminanceNoiseReductionContrast | 0 |
LuminanceNoiseReductionDetail | 50 |
LuminanceSmoothing | 28 |
Make | Canon |
MaxApertureValue | 2.8 |
Megapixels | 2.8 |
MeteringMode | Multi-segment |
Model | Canon EOS 5D Mark III |
ModifyDate (1) | 2015:06:19 22:08:34+02:00 |
ModifyDate | 2015:06:19 22:08:34 |
PaintCorrectionActive | true |
PaintCorrectionAmount | 1.000000 |
PaintCorrectionBrightness | 0.000000 |
PaintCorrectionClarity2012 (11) | -0.610394 |
PaintCorrectionClarity2012 (6) | -0.565693 |
PaintCorrectionClarity2012 (7) | -0.679484 |
PaintCorrectionClarity2012 (8) | 0.686685 |
PaintCorrectionClarity2012 | 0.000000 |
PaintCorrectionContrast2012 | 0.000000 |
PaintCorrectionDefringe | 0.000000 |
PaintCorrectionExposure2012 (1) | -0.300408 |
PaintCorrectionExposure2012 (10) | 0.326390 |
PaintCorrectionExposure2012 (4) | -0.516508 |
PaintCorrectionExposure2012 (8) | 0.000000 |
PaintCorrectionExposure2012 (9) | 0.359443 |
PaintCorrectionExposure2012 | 0.121807 |
PaintCorrectionHighlights2012 (8) | 0.036345 |
PaintCorrectionHighlights2012 (9) | 0.329144 |
PaintCorrectionHighlights2012 | 0.000000 |
PaintCorrectionHue | 57.000000 |
PaintCorrectionLuminanceNoise | 0.000000 |
PaintCorrectionMaskCenterWeight (1) | 0.033573 |
PaintCorrectionMaskCenterWeight (13) | 0.096119 |
PaintCorrectionMaskCenterWeight (45) | 0.000000 |
PaintCorrectionMaskCenterWeight (49) | 0.140662 |
PaintCorrectionMaskCenterWeight (8) | 0.018438 |
PaintCorrectionMaskCenterWeight | 0.020790 |
PaintCorrectionMaskFlow (20) | 1.000000 |
PaintCorrectionMaskFlow (41) | 0.679123 |
PaintCorrectionMaskFlow | 0.622503 |
PaintCorrectionMaskRadius (1) | 0.164798 |
PaintCorrectionMaskRadius (10) | 0.125367 |
PaintCorrectionMaskRadius (11) | 0.007601 |
PaintCorrectionMaskRadius (13) | 0.020258 |
PaintCorrectionMaskRadius (14) | 0.013599 |
PaintCorrectionMaskRadius (17) | 0.040073 |
PaintCorrectionMaskRadius (2) | 0.091921 |
PaintCorrectionMaskRadius (24) | 0.006009 |
PaintCorrectionMaskRadius (26) | 0.035420 |
PaintCorrectionMaskRadius (27) | 0.017603 |
PaintCorrectionMaskRadius (30) | 0.028205 |
PaintCorrectionMaskRadius (31) | 0.017175 |
PaintCorrectionMaskRadius (33) | 0.017176 |
PaintCorrectionMaskRadius (34) | 0.017158 |
PaintCorrectionMaskRadius (35) | 0.017137 |
PaintCorrectionMaskRadius (36) | 0.017113 |
PaintCorrectionMaskRadius (37) | 0.011791 |
PaintCorrectionMaskRadius (38) | 0.017161 |
PaintCorrectionMaskRadius (39) | 0.017107 |
PaintCorrectionMaskRadius (4) | 0.257343 |
PaintCorrectionMaskRadius (40) | 0.011793 |
PaintCorrectionMaskRadius (41) | 0.006529 |
PaintCorrectionMaskRadius (43) | 0.006505 |
PaintCorrectionMaskRadius (44) | 0.011758 |
PaintCorrectionMaskRadius (45) | 0.011792 |
PaintCorrectionMaskRadius (46) | 0.011786 |
PaintCorrectionMaskRadius (47) | 0.011795 |
PaintCorrectionMaskRadius (48) | 0.011781 |
PaintCorrectionMaskRadius (49) | 0.031450 |
PaintCorrectionMaskRadius (50) | 0.021442 |
PaintCorrectionMaskRadius (51) | 0.011158 |
PaintCorrectionMaskRadius (52) | 0.011179 |
PaintCorrectionMaskRadius (53) | 0.011183 |
PaintCorrectionMaskRadius (7) | 0.118482 |
PaintCorrectionMaskRadius (8) | 0.274725 |
PaintCorrectionMaskRadius (9) | 0.073026 |
PaintCorrectionMaskRadius | 0.011173 |
PaintCorrectionMaskValue | 0.686892 |
PaintCorrectionMaskWhat | Mask/Paint |
PaintCorrectionMoire | 0.000000 |
PaintCorrectionSaturation | 0.000000 |
PaintCorrectionShadows2012 (8) | -0.231454 |
PaintCorrectionShadows2012 | 0.000000 |
PaintCorrectionSharpness | 0.000000 |
PaintCorrectionTemperature | 0.000000 |
PaintCorrectionTint (10) | 0.383337 |
PaintCorrectionTint (4) | 0.000000 |
PaintCorrectionTint | 0.308220 |
PaintCorrectionWhat | Correction |
ParametricDarks | 0 |
ParametricHighlights | 0 |
ParametricHighlightSplit | 75 |
ParametricLights | 0 |
ParametricMidtoneSplit | 50 |
ParametricShadows | 0 |
ParametricShadowSplit | 25 |
PerspectiveAspect | 0 |
PerspectiveHorizontal | 0 |
PerspectiveRotate | 0.0 |
PerspectiveScale | 100 |
PerspectiveUpright | 0 |
PerspectiveVertical | 0 |
PostCropVignetteAmount | 0 |
ProcessVersion | 6.7 |
ProfileDescription | sRGB IEC61966-2.1 |
RecommendedExposureIndex | 160 |
RedHue | 0 |
RedSaturation | 0 |
Rights | Tore Aasland |
ScaleFactor35efl | 2.8 |
SceneCaptureType | Standard |
SensitivityType | Recommended Exposure Index |
SerialNumber | 033023009120 |
Shadows2012 | -64 |
ShadowTint | 0 |
SharpenDetail | 8 |
SharpenEdgeMasking | 75 |
SharpenRadius | +1.5 |
Sharpness | 102 |
ShutterSpeed | 1/160 |
ShutterSpeedValue | 1/160 |
Software | Adobe Photoshop Lightroom 5.7 (Macintosh) |
SplitToningBalance | 0 |
SplitToningHighlightHue | 0 |
SplitToningHighlightSaturation | 0 |
SplitToningShadowHue | 0 |
SplitToningShadowSaturation | 0 |
Tint | +11 |
ToneCurve | 0, 0, 255, 255 |
ToneCurveBlue | 0, 0, 255, 255 |
ToneCurveGreen | 0, 0, 255, 255 |
ToneCurveName | Linear |
ToneCurveName2012 | Linear |
ToneCurvePV2012 | 0, 0, 255, 255 |
ToneCurvePV2012Blue | 0, 0, 255, 255 |
ToneCurvePV2012Green | 0, 0, 255, 255 |
ToneCurvePV2012Red | 0, 0, 255, 255 |
ToneCurveRed | 0, 0, 255, 255 |
Version | 8.7 |
VignetteAmount | 0 |
WhiteBalance (1) | As Shot |
WhiteBalance | Manual |
Whites2012 | 0 |