Felt | Verdi |
AlreadyApplied | True |
Aperture | 2.8 |
ApertureValue | 2.8 |
AutoLateralCA | 0 |
AutoWhiteVersion | 134348800 |
BitsPerSample | 8 |
Blacks2012 | +27 |
BlueHue | 0 |
BlueSaturation | 0 |
CameraProfile | Adobe Standard |
CircleOfConfusion | 0.006 mm |
Clarity2012 | +45 |
ColorComponents | 3 |
ColorNoiseReduction | 53 |
ColorNoiseReductionDetail | 50 |
ColorNoiseReductionSmoothness | 50 |
ColorTemperature | 5040 |
ColorTransform | YCbCr |
Contrast | Normal |
Contrast2012 | +44 |
ConvertToGrayscale | True |
CreateDate | 2015:07:17 16:48:57 |
CreatorTool | Adobe Photoshop Lightroom 6.3 (Macintosh) |
CustomRendered | Normal |
DateCreated (1) | 2015:07:17 |
DateCreated | 2015:07:17 16:48:57 |
DateTimeOriginal | 2015:07:17 16:48:57 |
Dehaze | 0 |
Exposure2012 | +0.32 |
ExposureCompensation | 0 |
ExposureMode | Auto |
ExposureProgram | Manual |
ExposureTime | 1/60 |
Flash | Off, Did not fire |
FNumber | 2.8 |
FocalLength | 6.0 mm |
FocalLength35efl | 6.0 mm (35 mm equivalent: 28.0 mm) |
FocalLengthIn35mmFormat | 28 mm |
Format | image/jpeg |
FOV | 65.5 deg |
GrainAmount | 0 |
GrayMixerAqua | +32 |
GrayMixerBlue | +9 |
GrayMixerGreen | +36 |
GrayMixerMagenta | +4 |
GrayMixerOrange | -28 |
GrayMixerPurple | +15 |
GrayMixerRed | +6 |
GrayMixerYellow | +22 |
GreenHue | 0 |
GreenSaturation | 0 |
HasCrop | False |
HasSettings | True |
Highlights2012 | -28 |
HyperfocalDistance | 2.00 m |
ImageHeight | 3000 |
ImageSize | 4000x3000 |
ImageWidth | 4000 |
ISO | 400 |
LensManualDistortionAmount | 0 |
LensProfileEnable | 0 |
LensProfileSetup | LensDefaults |
LightValue | 6.9 |
LuminanceNoiseReductionContrast | 0 |
LuminanceNoiseReductionDetail | 50 |
LuminanceSmoothing | 21 |
Make | PENTAX RICOH IMAGING |
Megapixels | 12.0 |
MeteringMode | Center-weighted average |
Model | PENTAX MX-1 |
ModifyDate (1) | 2016:01:14 16:17:22+01:00 |
ModifyDate | 2016:01:14 16:17:22 |
ParametricDarks | 0 |
ParametricHighlights | 0 |
ParametricHighlightSplit | 75 |
ParametricLights | 0 |
ParametricMidtoneSplit | 50 |
ParametricShadows | 0 |
ParametricShadowSplit | 25 |
PerspectiveAspect | 0 |
PerspectiveHorizontal | 0 |
PerspectiveRotate | 0.0 |
PerspectiveScale | 100 |
PerspectiveUpright | 0 |
PerspectiveVertical | 0 |
PostCropVignetteAmount | 0 |
ProcessVersion | 6.7 |
ProfileDescription | sRGB IEC61966-2.1 |
RedHue | 0 |
RedSaturation | 0 |
Saturation | Normal |
ScaleFactor35efl | 4.7 |
SceneCaptureType | Standard |
SensingMethod | One-chip color area |
Shadows2012 | -18 |
ShadowTint | 0 |
SharpenDetail | 25 |
SharpenEdgeMasking | 55 |
SharpenRadius | +1.0 |
Sharpness (1) | 53 |
Sharpness | Normal |
ShutterSpeed | 1/60 |
ShutterSpeedValue | 1/60 |
Software | Adobe Photoshop Lightroom 6.3 (Macintosh) |
SplitToningBalance | 0 |
SplitToningHighlightHue | 0 |
SplitToningHighlightSaturation | 0 |
SplitToningShadowHue | 0 |
SplitToningShadowSaturation | 0 |
SubjectDistanceRange | Unknown |
Tint | -8 |
ToneCurve | 0, 0, 255, 255 |
ToneCurveBlue | 0, 0, 255, 255 |
ToneCurveGreen | 0, 0, 255, 255 |
ToneCurveName | Linear |
ToneCurveName2012 | Linear |
ToneCurvePV2012 | 0, 0, 255, 255 |
ToneCurvePV2012Blue | 0, 0, 255, 255 |
ToneCurvePV2012Green | 0, 0, 255, 255 |
ToneCurvePV2012Red | 0, 0, 255, 255 |
ToneCurveRed | 0, 0, 255, 255 |
ToneMapStrength | 0 |
Version | 9.3 |
VignetteAmount | 0 |
WhiteBalance (1) | Custom |
WhiteBalance | Auto |
Whites2012 | 0 |