Felt | Verdi |
AlreadyApplied | True |
Aperture | 3.9 |
ApertureValue | 3.9 |
ApproximateFocusDistance | 6.83 |
AutoLateralCA | 1 |
AutoWhiteVersion | 134348800 |
BitsPerSample | 8 |
Blacks2012 | +100 |
BlueHue | 0 |
BlueSaturation | 0 |
CameraProfile | Camera Natural |
Caption-Abstract | Verdens Ende Sydvest - PålB |
CFAPattern | [Red,Green][Green,Blue] |
CircleOfConfusion | 0.015 mm |
City | Tjøme |
Clarity2012 | +48 |
ColorComponents | 3 |
ColorNoiseReduction | 25 |
ColorNoiseReductionDetail | 50 |
ColorNoiseReductionSmoothness | 50 |
ColorTemperature | 12500 |
ColorTransform | YCbCr |
Contrast | Normal |
Contrast2012 | 0 |
ConvertToGrayscale | False |
Copyright | 2015 Pål Børsting |
CopyrightFlag | True |
CopyrightNotice | 2015 Pål Børsting |
Country | Norway |
Country-PrimaryLocationCode | NO |
Country-PrimaryLocationName | Norway |
CountryCode | NO |
CreateDate | 2014:09:27 18:31:51 |
CreatorTool | Adobe Photoshop Lightroom 5.7 (Macintosh) |
CropAngle | 2.25847 |
CropBottom | 0.998191 |
CropConstrainToWarp | 0 |
CropLeft | 0.103672 |
CropRight | 0.930486 |
CropTop | 0 |
CustomRendered | Normal |
DateCreated (1) | 2014:09:27 18:31:51 |
DateCreated | 2014:09:27 |
DateTimeOriginal | 2014:09:27 18:31:51 |
DefringeGreenAmount | 0 |
DefringeGreenHueHi | 60 |
DefringeGreenHueLo | 40 |
DefringePurpleAmount | 0 |
DefringePurpleHueHi | 70 |
DefringePurpleHueLo | 30 |
Description | Verdens Ende Sydvest - PålB |
DigitalZoomRatio | 1 |
DOF | inf (2.87 m - inf) |
Exposure2012 | 0.00 |
ExposureCompensation | 0 |
ExposureMode | Auto |
ExposureProgram | Program AE |
ExposureTime | 1/60 |
Flash | On, Did not fire |
FlashCompensation | -2 |
FNumber | 3.9 |
FocalLength | 17.0 mm |
FocalLength35efl | 17.0 mm (35 mm equivalent: 34.0 mm) |
FocalLengthIn35mmFormat | 34 mm |
Format | image/jpeg |
FOV | 55.8 deg |
GainControl | High gain up |
GPSLatitude (1) | 59 deg 3' 16.00" |
GPSLatitude | 59 deg 3' 16.00" N |
GPSLatitudeRef | North |
GPSLongitude (1) | 10 deg 24' 19.00" |
GPSLongitude | 10 deg 24' 19.00" E |
GPSLongitudeRef | East |
GPSPosition | 59 deg 3' 16.00" N, 10 deg 24' 19.00" E |
GPSVersionID | 2.2.0.0 |
GradientBasedCorrActive | true |
GradientBasedCorrAmount | 1.000000 |
GradientBasedCorrBrightness | 0.000000 |
GradientBasedCorrClarity2012 | -0.036519 |
GradientBasedCorrContrast2012 | 0.000000 |
GradientBasedCorrDefringe | 0.000000 |
GradientBasedCorrExposure2012 | -0.525895 |
GradientBasedCorrHighlights2012 | -0.017097 |
GradientBasedCorrHue | 50.000000 |
GradientBasedCorrLuminanceNoise | 0.012910 |
GradientBasedCorrMaskFullX | 0.575927 |
GradientBasedCorrMaskFullY | 0.403879 |
GradientBasedCorrMaskValue | 1.000000 |
GradientBasedCorrMaskWhat | Mask/Gradient |
GradientBasedCorrMaskZeroX | 0.403434 |
GradientBasedCorrMaskZeroY | 0.401837 |
GradientBasedCorrMoire | 0.000000 |
GradientBasedCorrSaturation | 0.000000 |
GradientBasedCorrShadows2012 | 0.000000 |
GradientBasedCorrSharpness | 0.080948 |
GradientBasedCorrTemperature | -0.550562 |
GradientBasedCorrTint | -0.130355 |
GradientBasedCorrWhat | Correction |
GrainAmount | 0 |
GreenHue | 0 |
GreenSaturation | 0 |
HasCrop | True |
HasSettings | True |
Highlights2012 | -100 |
HueAdjustmentAqua | 0 |
HueAdjustmentBlue | 0 |
HueAdjustmentGreen | 0 |
HueAdjustmentMagenta | 0 |
HueAdjustmentOrange | 0 |
HueAdjustmentPurple | 0 |
HueAdjustmentRed | 0 |
HueAdjustmentYellow | 0 |
HyperfocalDistance | 4.93 m |
ImageDescription | Verdens Ende Sydvest - PålB |
ImageHeight | 2449 |
ImageSize | 2048x2449 |
ImageWidth | 2048 |
ISO | 400 |
Lens | OLYMPUS M.14-42mm F3.5-5.6 |
LensInfo | 14-42mm f/3.5-5.6 |
LensManualDistortionAmount | 0 |
LensModel | OLYMPUS M.14-42mm F3.5-5.6 |
LensProfileEnable | 0 |
LensProfileSetup | LensDefaults |
LensSerialNumber | AAB241804 |
LightSource | Unknown |
LightValue | 7.8 |
Location | Verdens Ende Sydvest |
LuminanceAdjustmentAqua | 0 |
LuminanceAdjustmentBlue | -19 |
LuminanceAdjustmentGreen | -2 |
LuminanceAdjustmentMagenta | 0 |
LuminanceAdjustmentOrange | 0 |
LuminanceAdjustmentPurple | 0 |
LuminanceAdjustmentRed | 0 |
LuminanceAdjustmentYellow | 0 |
LuminanceSmoothing | 0 |
Make | OLYMPUS IMAGING CORP. |
Marked | True |
MaxApertureValue | 3.5 |
Megapixels | 5.0 |
MeteringMode | Multi-segment |
Model | E-P1 |
ModifyDate (1) | 2015:02:08 19:24:26+01:00 |
ModifyDate | 2015:02:08 19:24:26 |
ObjectName | Verdens Ende Sydvest - PålB |
Orientation | Horizontal (normal) |
ParametricDarks | 0 |
ParametricHighlights | 0 |
ParametricHighlightSplit | 75 |
ParametricLights | 0 |
ParametricMidtoneSplit | 50 |
ParametricShadows | 0 |
ParametricShadowSplit | 25 |
PerspectiveAspect | 0 |
PerspectiveHorizontal | 0 |
PerspectiveRotate | 0.0 |
PerspectiveScale | 100 |
PerspectiveUpright | 0 |
PerspectiveVertical | 0 |
PostCropVignetteAmount | 0 |
ProcessVersion | 6.7 |
ProfileDescription | ProPhoto RGB |
Province-State | Vestfold |
RawFileName | Verdens Ende Sydvest - PålB.jpg |
RedHue | 0 |
RedSaturation | 0 |
Rights | 2015 Pål Børsting |
Saturation (1) | 0 |
Saturation | Normal |
SaturationAdjustmentAqua | +25 |
SaturationAdjustmentBlue | 0 |
SaturationAdjustmentGreen | +34 |
SaturationAdjustmentMagenta | 0 |
SaturationAdjustmentOrange | 0 |
SaturationAdjustmentPurple | 0 |
SaturationAdjustmentRed | 0 |
SaturationAdjustmentYellow | 0 |
ScaleFactor35efl | 2.0 |
SceneCaptureType | Standard |
SerialNumber | H46519570 |
Shadows2012 | +42 |
ShadowTint | 0 |
SharpenDetail | 25 |
SharpenEdgeMasking | 0 |
SharpenRadius | +1.0 |
Sharpness (1) | 64 |
Sharpness | Normal |
ShutterSpeed | 1/60 |
ShutterSpeedValue | 1/60 |
Software | Adobe Photoshop Lightroom 5.7 (Macintosh) |
SplitToningBalance | 0 |
SplitToningHighlightHue | 0 |
SplitToningHighlightSaturation | 0 |
SplitToningShadowHue | 0 |
SplitToningShadowSaturation | 0 |
State | Vestfold |
Sub-location | Verdens Ende Sydvest |
Tint | +27 |
Title | Verdens Ende Sydvest - PålB |
ToneCurve | 0, 0, 255, 255 |
ToneCurveBlue | 0, 0, 255, 255 |
ToneCurveGreen | 0, 0, 255, 255 |
ToneCurveName | Linear |
ToneCurveName2012 | Linear |
ToneCurvePV2012 | 0, 0, 255, 255 |
ToneCurvePV2012Blue | 0, 0, 255, 255 |
ToneCurvePV2012Green | 0, 0, 255, 255 |
ToneCurvePV2012Red | 0, 0, 255, 255 |
ToneCurveRed | 0, 0, 255, 255 |
URL | http://creativecommons.org/licenses/by-nc-sa/3.0/ |
UsageTerms | This work is licensed under a Creative Commons Attribution-NonCommercial-ShareAlike 3.0 Unported License http://creativecommons.org/licenses/by-nc-sa/3.0/ Want to use it for other than private use, contact me at pbredtaggmail.com ( = @)
Version | 8.7 |
Vibrance | +45 |
VignetteAmount | 0 |
WebStatement | http://creativecommons.org/licenses/by-nc-sa/3.0/ |
WhiteBalance (1) | Custom |
WhiteBalance | Auto |
Whites2012 | +53 |