Felt | Verdi |
AlreadyApplied | True |
Aperture | 16.0 |
ApertureValue | 16.0 |
ApproximateFocusDistance | 2.6 |
Artist | FRK_ELSK_PHOTO |
AutoLateralCA | 1 |
AutoWhiteVersion | 134348800 |
BitsPerSample | 8 |
Blacks2012 | -16 |
BlueHue | 0 |
BlueSaturation | 0 |
By-line | FRK_ELSK_PHOTO |
CameraProfile | Adobe Standard |
CircleOfConfusion | 0.019 mm |
Clarity2012 | +23 |
ColorComponents | 3 |
ColorNoiseReduction | 63 |
ColorNoiseReductionDetail | 50 |
ColorNoiseReductionSmoothness | 50 |
ColorSpace | sRGB |
ColorTemperature | 5150 |
ColorTransform | YCbCr |
Contrast2012 | 0 |
ConvertToGrayscale | False |
CopyrightFlag | True |
CreateDate (1) | 2016:07:22 23:40:06.00 |
CreateDate | 2016:07:22 23:40:06 |
Creator | FRK_ELSK_PHOTO |
CreatorTool | Adobe Photoshop Lightroom 6.6 (Macintosh) |
CustomRendered | Normal |
DateCreated (1) | 2016:07:22 |
DateCreated | 2016:07:22 23:40:06.00 |
DateTimeOriginal | 2016:07:22 23:40:06 |
DefringeGreenAmount | 0 |
DefringeGreenHueHi | 60 |
DefringeGreenHueLo | 40 |
DefringePurpleAmount | 0 |
DefringePurpleHueHi | 70 |
DefringePurpleHueLo | 30 |
Dehaze | +15 |
DigitalSourceType | nil |
DOF | inf (1.11 m - inf) |
Event | |
Exposure2012 | +0.30 |
ExposureCompensation | 0 |
ExposureMode | Auto |
ExposureProgram | Bulb |
ExposureTime | 1122 |
Firmware | 1.1.1 |
Flash | Off, Did not fire |
FlashCompensation | 0 |
FNumber | 16.0 |
FocalLength | 24.0 mm |
FocalLength35efl | 24.0 mm (35 mm equivalent: 38.7 mm) |
Format | image/jpeg |
FOV | 49.9 deg |
GrainAmount | 0 |
GreenHue | 0 |
GreenSaturation | 0 |
HasCrop | False |
HasSettings | True |
HierarchicalSubject | 2016, Flakstadvåg, LE, blyfjord, senja, ørnvika |
Highlights2012 | -21 |
HueAdjustmentAqua | 0 |
HueAdjustmentBlue | 0 |
HueAdjustmentGreen | 0 |
HueAdjustmentMagenta | 0 |
HueAdjustmentOrange | 0 |
HueAdjustmentPurple | 0 |
HueAdjustmentRed | 0 |
HueAdjustmentYellow | 0 |
HyperfocalDistance | 1.93 m |
ImageHeight | 3648 |
ImageNumber | 0 |
ImageSize | 5472x3648 |
ImageWidth | 5472 |
ISO | 100 |
Keywords | 2016, Flakstadvåg, LE, blyfjord, senja, ørnvika |
Lens | 24-105mm |
LensID (1) | 143 |
LensID | Sigma 17-70mm f/2.8-4 DC Macro OS HSM + 1.4x |
LensInfo | 24-105mm f/? |
LensManualDistortionAmount | 0 |
LensModel | 24-105mm |
LensProfileEnable | 0 |
LensProfileSetup | LensDefaults |
LensSerialNumber | 0000000000 |
LightValue | -2.1 |
LuminanceAdjustmentAqua | 0 |
LuminanceAdjustmentBlue | 0 |
LuminanceAdjustmentGreen | 0 |
LuminanceAdjustmentMagenta | 0 |
LuminanceAdjustmentOrange | 0 |
LuminanceAdjustmentPurple | 0 |
LuminanceAdjustmentRed | 0 |
LuminanceAdjustmentYellow | 0 |
LuminanceNoiseReductionContrast | 0 |
LuminanceNoiseReductionDetail | 50 |
LuminanceSmoothing | 37 |
Make | Canon |
Marked | True |
MaxApertureValue | 4.0 |
Megapixels | 20.0 |
MeteringMode | Multi-segment |
MinorModelAgeDisclosure | Unknown (nil) |
Model | Canon EOS 70D |
ModelReleaseStatus | Unknown (nil) |
ModifyDate (1) | 2016:07:23 20:20:13+02:00 |
ModifyDate | 2016:07:23 20:20:13 |
ParametricDarks | 0 |
ParametricHighlights | 0 |
ParametricHighlightSplit | 75 |
ParametricLights | 0 |
ParametricMidtoneSplit | 50 |
ParametricShadows | 0 |
ParametricShadowSplit | 25 |
PerspectiveAspect | 0 |
PerspectiveHorizontal | 0 |
PerspectiveRotate | 0.0 |
PerspectiveScale | 100 |
PerspectiveUpright | 0 |
PerspectiveVertical | 0 |
PerspectiveX | 0.00 |
PerspectiveY | 0.00 |
PLUSVersion | 1.2.0 |
PostCropVignetteAmount | 0 |
ProcessVersion | 6.7 |
ProfileDescription | sRGB IEC61966-2.1 |
PropertyReleaseStatus | Unknown (nil) |
RecommendedExposureIndex | 100 |
RedHue | 0 |
RedSaturation | 0 |
Saturation | 0 |
SaturationAdjustmentAqua | 0 |
SaturationAdjustmentBlue | 0 |
SaturationAdjustmentGreen | 0 |
SaturationAdjustmentMagenta | 0 |
SaturationAdjustmentOrange | 0 |
SaturationAdjustmentPurple | 0 |
SaturationAdjustmentRed | 0 |
SaturationAdjustmentYellow | 0 |
ScaleFactor35efl | 1.6 |
SceneCaptureType | Standard |
SensitivityType | Recommended Exposure Index |
SerialNumber | 073024001299 |
Shadows2012 | +100 |
ShadowTint | 0 |
SharpenDetail | 25 |
SharpenEdgeMasking | 77 |
SharpenRadius | +1.0 |
Sharpness | 41 |
ShutterSpeed | 1122 |
ShutterSpeedValue | 1122 |
Software | Adobe Photoshop Lightroom 6.6 (Macintosh) |
SplitToningBalance | 0 |
SplitToningHighlightHue | 0 |
SplitToningHighlightSaturation | 0 |
SplitToningShadowHue | 0 |
SplitToningShadowSaturation | 0 |
Subject | 2016, Flakstadvåg, LE, blyfjord, senja, ørnvika |
Tint | +8 |
ToneCurve | 0, 0, 255, 255 |
ToneCurveBlue | 0, 0, 255, 255 |
ToneCurveGreen | 0, 0, 255, 255 |
ToneCurveName | Linear |
ToneCurveName2012 | Linear |
ToneCurvePV2012 | 0, 0, 255, 255 |
ToneCurvePV2012Blue | 0, 0, 255, 255 |
ToneCurvePV2012Green | 0, 0, 255, 255 |
ToneCurvePV2012Red | 0, 0, 255, 255 |
ToneCurveRed | 0, 0, 255, 255 |
ToneMapStrength | 0 |
Version | 9.6 |
Vibrance | +12 |
VignetteAmount | 0 |
WhiteBalance (1) | As Shot |
WhiteBalance | Auto |
Whites2012 | +45 |