Felt | Verdi |
AlreadyApplied | True |
Aperture | 11.0 |
ApertureValue | 11.0 |
Artist | Vidar M. Jacobsen |
BitsPerSample | 8 |
BlueHue | 0 |
BlueSaturation | 0 |
Brightness | +69 |
BrightnessValue | 8.37 |
By-line | Vidar M. Jacobsen |
CameraProfile | Adobe Standard |
CameraSerialNumber | 2125849 |
Caption-Abstract | SONY DSC |
ChromaticAberrationB | 0 |
ChromaticAberrationR | 0 |
CircleOfConfusion | 0.020 mm |
Clarity | +89 |
ColorComponents | 3 |
ColorMode | RGB |
ColorNoiseReduction | 24 |
ColorNoiseReductionDetail | 50 |
ColorSpace | sRGB |
ColorTemperature | 5500 |
ColorTransform | YCbCr |
Contrast (2) | +68 |
Contrast | Normal |
ConvertToGrayscale | False |
CreateDate (1) | 2019:06:15 15:03:28+02:00 |
CreateDate | 2019:06:15 15:03:28 |
Creator | Vidar M. Jacobsen |
CreatorTool | DSLR-A300 v1.00 |
CustomRendered | Normal |
DateAcquired | 2019:06:16 01:03:27.225 |
DateTimeDigitized | 2019:06:15 15:03:28+02:00 |
DateTimeOriginal (1) | 2019:06:15 15:03:28+02:00 |
DateTimeOriginal | 2019:06:15 15:03:28 |
Defringe | 0 |
Description | SONY DSC |
ExifImageHeight | 1757 |
ExifImageWidth | 3142 |
Exposure | 0.00 |
ExposureCompensation | 0 |
ExposureMode | Manual |
ExposureProgram | Manual |
ExposureTime | 1/1250 |
FillLight | 26 |
Flash | Off, Did not fire |
FlashFired | False |
FlashFunction | False |
FlashMode | Off |
FlashRedEyeMode | False |
FlashReturn | No return detection |
FNumber | 11.0 |
FocalLength | 55.0 mm |
FocalLength35efl | 55.0 mm (35 mm equivalent: 82.0 mm) |
FocalLengthIn35mmFormat | 82 mm |
Format | image/jpeg |
FOV | 24.8 deg |
GrainAmount | 0 |
GreenHue | 0 |
GreenSaturation | 0 |
HasCrop | False |
HasSettings | True |
HighlightRecovery | 33 |
HueAdjustmentAqua | 0 |
HueAdjustmentBlue | 0 |
HueAdjustmentGreen | 0 |
HueAdjustmentMagenta | 0 |
HueAdjustmentOrange | 0 |
HueAdjustmentPurple | 0 |
HueAdjustmentRed | 0 |
HueAdjustmentYellow | 0 |
HyperfocalDistance | 13.65 m |
ICCProfileName | sRGB IEC61966-2.1 |
ImageDescription | SONY DSC |
ImageHeight | 1757 |
ImageSize | 3142x1757 |
ImageWidth | 3142 |
ISO | 400 |
Keywords | Drammen, Bragernes Torg, Gatebilder |
LastKeywordIPTC | Drammen, Bragernes Torg, Gatebilder |
LastKeywordXMP | Drammen, Bragernes Torg, Gatebilder |
Lens | DT 55-200mm F4.0-5.6 |
LensID (1) | 49 |
LensID | Sony DT 55-200mm F4-5.6 (SAL55200) |
LensInfo | 55-200mm f/40-56 |
LensManualDistortionAmount | 0 |
LensManufacturer | Sony |
LensModel | DT 55-200mm |
LensProfileEnable | 0 |
LensProfileSetup | LensDefaults |
LightSource | Unknown |
LightValue | 15.2 |
LuminanceAdjustmentAqua | 0 |
LuminanceAdjustmentBlue | 0 |
LuminanceAdjustmentGreen | 0 |
LuminanceAdjustmentMagenta | 0 |
LuminanceAdjustmentOrange | 0 |
LuminanceAdjustmentPurple | 0 |
LuminanceAdjustmentRed | 0 |
LuminanceAdjustmentYellow | 0 |
LuminanceNoiseReductionContrast | 0 |
LuminanceNoiseReductionDetail | 50 |
LuminanceSmoothing | 97 |
Make | SONY |
MaxApertureValue | 4.0 |
Megapixels | 5.5 |
MeteringMode | Multi-segment |
Model | DSLR-A300 |
ModifyDate (1) | 2019:06:15 18:39:45+02:00 |
ModifyDate | 2019:06:15 18:39:45 |
Orientation | Horizontal (normal) |
ParametricDarks | 0 |
ParametricHighlights | 0 |
ParametricHighlightSplit | 75 |
ParametricLights | 0 |
ParametricMidtoneSplit | 50 |
ParametricShadows | 0 |
ParametricShadowSplit | 25 |
PerspectiveHorizontal | 0 |
PerspectiveRotate | 0.0 |
PerspectiveScale | 100 |
PerspectiveVertical | 0 |
PostCropVignetteAmount | 0 |
ProcessVersion | 5.7 |
ProfileDescription | sRGB IEC61966-2.1 |
Rating | 0 |
RawFileName | Sony K034 377 Bragernes Torg.ARW |
RedHue | 0 |
RedSaturation | 0 |
Saturation (2) | -24 |
Saturation | Normal |
SaturationAdjustmentAqua | 0 |
SaturationAdjustmentBlue | 0 |
SaturationAdjustmentGreen | 0 |
SaturationAdjustmentMagenta | 0 |
SaturationAdjustmentOrange | 0 |
SaturationAdjustmentPurple | 0 |
SaturationAdjustmentRed | 0 |
SaturationAdjustmentYellow | 0 |
ScaleFactor35efl | 1.5 |
SceneCaptureType | Standard |
SceneType | Directly photographed |
Shadows | 13 |
ShadowTint | 0 |
SharpenDetail | 43 |
SharpenEdgeMasking | 40 |
SharpenRadius | +1.8 |
Sharpness (2) | 57 |
Sharpness | Normal |
ShutterSpeed | 1/1250 |
ShutterSpeedValue | 1/1250 |
SidecarForExtension | ARW |
Software | Adobe Photoshop Elements 9.0 Windows |
SplitToningBalance | 0 |
SplitToningHighlightHue | 0 |
SplitToningHighlightSaturation | 0 |
SplitToningShadowHue | 0 |
SplitToningShadowSaturation | 0 |
Subject | Drammen, Bragernes Torg, Gatebilder |
Tint | +10 |
ToneCurve | 0, 0, 32, 22, 64, 56, 128, 128, 192, 196, 255, 255 |
ToneCurveName | Medium Contrast |
URL_List | |
Version | 6.1 |
Vibrance | +86 |
VignetteAmount | 0 |
WhiteBalance (2) | Daylight |
WhiteBalance | Auto |
XPAuthor | Vidar M. Jacobsen |
XPKeywords | Drammen;Bragernes Torg;Gatebilder |