Felt | Verdi |
AlreadyApplied | True |
Aperture | 10.0 |
ApertureValue | 10.0 |
ApproximateFocusDistance | 5.01 |
Artist | Hans Jørgen Lindeløff |
AutoLateralCA | 1 |
BitsPerSample | 8 |
Blacks2012 | -12 |
BlueHue | 0 |
BlueSaturation | 0 |
By-line | Hans Jørgen Lindeløff |
CameraProfile | Adobe Standard |
Caption-Abstract | Fredrikstad |
CFAPattern | [Red,Green][Green,Blue] |
CircGradBasedCorrActive | true |
CircGradBasedCorrAmount | 1.000000 |
CircGradBasedCorrBrightness | 0.000000 |
CircGradBasedCorrClarity2012 | 0.000000 |
CircGradBasedCorrContrast2012 | 0.000000 |
CircGradBasedCorrCorrectionRangeMaskType | 0 |
CircGradBasedCorrDefringe | 0.000000 |
CircGradBasedCorrExposure2012 (1) | 1.000000 |
CircGradBasedCorrExposure2012 (10) | 0.213127 |
CircGradBasedCorrExposure2012 (11) | 0.174882 |
CircGradBasedCorrExposure2012 (2) | 0.121638 |
CircGradBasedCorrExposure2012 (3) | 0.702021 |
CircGradBasedCorrExposure2012 (4) | 0.380338 |
CircGradBasedCorrExposure2012 (5) | 0.677274 |
CircGradBasedCorrExposure2012 (6) | 0.109653 |
CircGradBasedCorrExposure2012 (7) | 0.000000 |
CircGradBasedCorrExposure2012 (8) | 0.320727 |
CircGradBasedCorrExposure2012 (9) | 0.289681 |
CircGradBasedCorrExposure2012 | 0.146092 |
CircGradBasedCorrHighlights2012 (7) | -0.126743 |
CircGradBasedCorrHighlights2012 | 0.000000 |
CircGradBasedCorrHue | 240.000000 |
CircGradBasedCorrLocalBlacks2012 | 0.000000 |
CircGradBasedCorrLocalDehaze | 0.000000 |
CircGradBasedCorrLocalHue | 0.000000 |
CircGradBasedCorrLocalTexture | 0.000000 |
CircGradBasedCorrLocalWhites2012 (6) | 0.110786 |
CircGradBasedCorrLocalWhites2012 | 0.000000 |
CircGradBasedCorrLuminanceNoise | 0.000000 |
CircGradBasedCorrMaskAngle | 0.000000 |
CircGradBasedCorrMaskBottom (10) | 0.672271 |
CircGradBasedCorrMaskBottom (11) | 0.901514 |
CircGradBasedCorrMaskBottom (2) | 0.269488 |
CircGradBasedCorrMaskBottom (4) | 0.485715 |
CircGradBasedCorrMaskBottom (6) | 0.468544 |
CircGradBasedCorrMaskBottom (7) | 0.527458 |
CircGradBasedCorrMaskBottom (8) | 0.568700 |
CircGradBasedCorrMaskBottom (9) | 0.622228 |
CircGradBasedCorrMaskBottom | 0.601220 |
CircGradBasedCorrMaskCenterWeight (1) | 0.000000 |
CircGradBasedCorrMaskCenterWeight | 0.149857 |
CircGradBasedCorrMaskFeather | +100 |
CircGradBasedCorrMaskFlipped | true |
CircGradBasedCorrMaskFlow | 0.813589 |
CircGradBasedCorrMaskLeft (1) | 0.105571 |
CircGradBasedCorrMaskLeft (10) | 0.221055 |
CircGradBasedCorrMaskLeft (11) | -0.041717 |
CircGradBasedCorrMaskLeft (3) | 0.546991 |
CircGradBasedCorrMaskLeft (6) | 0.965507 |
CircGradBasedCorrMaskLeft (7) | 0.083358 |
CircGradBasedCorrMaskLeft (8) | 0.628444 |
CircGradBasedCorrMaskLeft (9) | 0.899731 |
CircGradBasedCorrMaskLeft | 0.300843 |
CircGradBasedCorrMaskMidpoint | +50 |
CircGradBasedCorrMaskRadius (1) | 0.009757 |
CircGradBasedCorrMaskRadius (4) | 0.009760 |
CircGradBasedCorrMaskRadius | 0.021335 |
CircGradBasedCorrMaskRight (1) | 0.140452 |
CircGradBasedCorrMaskRight (10) | 0.281703 |
CircGradBasedCorrMaskRight (11) | 1.209690 |
CircGradBasedCorrMaskRight (4) | 0.555711 |
CircGradBasedCorrMaskRight (6) | 0.977623 |
CircGradBasedCorrMaskRight (7) | 0.620908 |
CircGradBasedCorrMaskRight (8) | 0.689380 |
CircGradBasedCorrMaskRight (9) | 0.979868 |
CircGradBasedCorrMaskRight | 0.394009 |
CircGradBasedCorrMaskRoundness | 0 |
CircGradBasedCorrMaskTop (10) | 0.596968 |
CircGradBasedCorrMaskTop (11) | 0.359435 |
CircGradBasedCorrMaskTop (2) | 0.212982 |
CircGradBasedCorrMaskTop (3) | 0.465857 |
CircGradBasedCorrMaskTop (5) | 0.447146 |
CircGradBasedCorrMaskTop (7) | 0.282775 |
CircGradBasedCorrMaskTop (8) | 0.456107 |
CircGradBasedCorrMaskTop (9) | 0.369390 |
CircGradBasedCorrMaskTop | 0.550290 |
CircGradBasedCorrMaskValue (3) | 0.000000 |
CircGradBasedCorrMaskValue | 1.000000 |
CircGradBasedCorrMaskVersion | +2 |
CircGradBasedCorrMaskWhat (5) | Mask/Paint |
CircGradBasedCorrMoire | 0.000000 |
CircGradBasedCorrSaturation | 0.000000 |
CircGradBasedCorrShadows2012 | 0.000000 |
CircGradBasedCorrSharpness | 0.000000 |
CircGradBasedCorrTemperature (10) | 0.383167 |
CircGradBasedCorrTemperature (11) | 0.435287 |
CircGradBasedCorrTemperature (4) | 0.948248 |
CircGradBasedCorrTemperature (5) | 0.750436 |
CircGradBasedCorrTemperature (6) | 1.000000 |
CircGradBasedCorrTemperature (7) | 0.227172 |
CircGradBasedCorrTemperature (8) | 0.302163 |
CircGradBasedCorrTemperature (9) | 0.247131 |
CircGradBasedCorrTemperature | 0.381905 |
CircGradBasedCorrTint (10) | 0.112861 |
CircGradBasedCorrTint (2) | 0.234016 |
CircGradBasedCorrTint (4) | 0.287832 |
CircGradBasedCorrTint (7) | -0.123813 |
CircGradBasedCorrTint (8) | 0.000000 |
CircGradBasedCorrTint | 0.175595 |
CircGradBasedCorrWhat | Correction |
CircleOfConfusion | 0.030 mm |
Clarity2012 | 0 |
ColorComponents | 3 |
ColorGradeBlending | 50 |
ColorGradeGlobalHue | 0 |
ColorGradeGlobalLum | 0 |
ColorGradeGlobalSat | 0 |
ColorGradeHighlightLum | 0 |
ColorGradeMidtoneHue | 0 |
ColorGradeMidtoneLum | 0 |
ColorGradeMidtoneSat | 0 |
ColorGradeShadowLum | 0 |
ColorNoiseReduction | 25 |
ColorNoiseReductionDetail | 50 |
ColorNoiseReductionSmoothness | 50 |
ColorSpace | sRGB |
ColorTemperature | 5350 |
ColorTransform | YCbCr |
Contrast | Normal |
Contrast2012 | 0 |
Copyright | © Hans Jørgen Lindeløff 2020 |
CopyrightFlag | True |
CopyrightNotice | © Hans Jørgen Lindeløff 2020 |
CreateDate (1) | 2020:08:27 20:42:29.27 |
CreateDate | 2020:08:27 20:42:29 |
Creator | Hans Jørgen Lindeløff |
CreatorAddress | Bjørnevågveien 8 |
CreatorCity | Kråkerøy |
CreatorCountry | Norway |
CreatorPostalCode | 1676 |
CreatorWorkEmail | lundeli@mac.com |
CreatorWorkTelephone | +47 92049534 |
CreatorWorkURL | lundeliphoto.no |
CropAngle | 0.519677 |
CropBottom | 0.898688 |
CropConstrainToWarp | 1 |
CropLeft | 0.014921 |
CropRight | 0.988431 |
CropTop | 0.060877 |
CustomRendered | Normal |
DateCreated (1) | 2018:01:02 |
DateCreated | 2018:01:02 14:49:07.571 |
DateTimeOriginal | 2020:08:27 20:42:29 |
DefringeGreenAmount | 0 |
DefringeGreenHueHi | 60 |
DefringeGreenHueLo | 40 |
DefringePurpleAmount | 0 |
DefringePurpleHueHi | 70 |
DefringePurpleHueLo | 30 |
Dehaze | 0 |
Description | Fredrikstad |
DigitalZoomRatio | 1 |
DistortionCorrectionAlreadyApplied | True |
DOF | inf (1.96 m - inf) |
Exposure2012 | 0.00 |
ExposureCompensation | 0 |
ExposureMode | Manual |
ExposureProgram | Manual |
ExposureTime | 1/20 |
Flash | Off, Did not fire |
FNumber | 10.0 |
FocalLength | 31.0 mm |
FocalLengthIn35mmFormat | 31 mm |
Format | image/jpeg |
FOV | 60.3 deg |
GainControl | None |
GradientBasedCorrActive | true |
GradientBasedCorrAmount | 1.000000 |
GradientBasedCorrBrightness | 0.000000 |
GradientBasedCorrClarity2012 | 0.000000 |
GradientBasedCorrContrast2012 | 0.000000 |
GradientBasedCorrCorrectionRangeMaskType | 0 |
GradientBasedCorrCorrectionRangeMaskVersion | +2 |
GradientBasedCorrDefringe | 0.000000 |
GradientBasedCorrExposure2012 | -0.063138 |
GradientBasedCorrHighlights2012 | 0.000000 |
GradientBasedCorrHue | 240.000000 |
GradientBasedCorrLocalBlacks2012 | 0.000000 |
GradientBasedCorrLocalDehaze | 0.000000 |
GradientBasedCorrLocalHue | 0.000000 |
GradientBasedCorrLocalTexture | 0.000000 |
GradientBasedCorrLocalWhites2012 | 0.000000 |
GradientBasedCorrLuminanceNoise | 0.000000 |
GradientBasedCorrMaskFullX | 0.451535 |
GradientBasedCorrMaskFullY | 0.191880 |
GradientBasedCorrMaskValue | 1.000000 |
GradientBasedCorrMaskWhat | Mask/Gradient |
GradientBasedCorrMaskZeroX | 0.453418 |
GradientBasedCorrMaskZeroY | 0.380742 |
GradientBasedCorrMoire | 0.000000 |
GradientBasedCorrSaturation | 0.000000 |
GradientBasedCorrShadows2012 | 0.000000 |
GradientBasedCorrSharpness | 0.000000 |
GradientBasedCorrTemperature | -0.146847 |
GradientBasedCorrTint | 0.136528 |
GradientBasedCorrWhat | Correction |
GrainAmount | 0 |
GreenHue | 0 |
GreenSaturation | 0 |
HasCrop | True |
HasSettings | True |
Highlights2012 | -52 |
HueAdjustmentAqua | 0 |
HueAdjustmentBlue | 0 |
HueAdjustmentGreen | 0 |
HueAdjustmentMagenta | 0 |
HueAdjustmentOrange | 0 |
HueAdjustmentPurple | 0 |
HueAdjustmentRed | 0 |
HueAdjustmentYellow | 0 |
HyperfocalDistance | 3.20 m |
ImageDescription | Fredrikstad |
ImageHeight | 1152 |
ImageNumber | 11207 |
ImageSize | 2048x1152 |
ImageWidth | 2048 |
ISO | 320 |
Lens | 24.0-70.0 mm f/2.8 |
LensID (1) | 147 |
LensID | AF-S Zoom-Nikkor 24-70mm f/2.8G ED |
LensInfo | 24-70mm f/2.8 |
LensManualDistortionAmount | 0 |
LensModel | 24.0-70.0 mm f/2.8 |
LensProfileDistortionScale | 100 |
LensProfileEnable | 1 |
LensProfileIsEmbedded | False |
LensProfileSetup | LensDefaults |
LensProfileVignettingScale | 100 |
LightSource | Unknown |
LightValue | 9.3 |
LookAmount | 1.000000 |
LookGroup | Profiles |
LookName | Adobe Landscape |
LookParametersCameraProfile | Adobe Standard |
LookParametersClarity2012 | +10 |
LookParametersConvertToGrayscale | False |
LookParametersHighlights2012 | -12 |
LookParametersLookTable | 0B3BFB5CFB7DBF7FF175E98F24D316B0 |
LookParametersProcessVersion | 11.0 |
LookParametersShadows2012 | +12 |
LookParametersToneCurvePV2012 | 0, 0, 64, 60, 128, 128, 192, 196, 255, 255 |
LookParametersVersion | 13.2 |
LookSupportsAmount | false |
LookSupportsMonochrome | false |
LookSupportsOutputReferred | false |
LuminanceAdjustmentAqua | 0 |
LuminanceAdjustmentBlue | 0 |
LuminanceAdjustmentGreen | 0 |
LuminanceAdjustmentMagenta | 0 |
LuminanceAdjustmentOrange | 0 |
LuminanceAdjustmentPurple | 0 |
LuminanceAdjustmentRed | 0 |
LuminanceAdjustmentYellow | 0 |
LuminanceNoiseReductionContrast | 0 |
LuminanceNoiseReductionDetail | 50 |
LuminanceSmoothing | 23 |
Make | NIKON CORPORATION |
Marked | True |
MaxApertureValue | 2.8 |
Megapixels | 2.4 |
MeteringMode | Multi-segment |
Model | NIKON D750 |
ModifyDate (1) | 2021:03:29 22:50:24+02:00 |
ModifyDate | 2021:03:29 22:50:24 |
OverrideLookVignette | False |
PaintCorrectionActive | true |
PaintCorrectionAmount | 1.000000 |
PaintCorrectionBrightness | 0.000000 |
PaintCorrectionClarity2012 (2) | 0.000000 |
PaintCorrectionClarity2012 | -1.000000 |
PaintCorrectionContrast2012 | 0.000000 |
PaintCorrectionCorrectionRangeMaskType | 0 |
PaintCorrectionCorrectionRangeMaskVersion | +2 |
PaintCorrectionDefringe | 0.000000 |
PaintCorrectionExposure2012 (1) | 0.118768 |
PaintCorrectionExposure2012 (3) | 0.190286 |
PaintCorrectionExposure2012 (4) | 0.373654 |
PaintCorrectionExposure2012 | -0.464244 |
PaintCorrectionHighlights2012 | 0.000000 |
PaintCorrectionHue | 240.000000 |
PaintCorrectionLocalBlacks2012 (2) | 0.000000 |
PaintCorrectionLocalBlacks2012 | -0.170780 |
PaintCorrectionLocalDehaze (4) | -0.547929 |
PaintCorrectionLocalDehaze | 0.000000 |
PaintCorrectionLocalHue | 0.000000 |
PaintCorrectionLocalTexture (4) | -1.000000 |
PaintCorrectionLocalTexture | 0.000000 |
PaintCorrectionLocalWhites2012 (2) | 0.000000 |
PaintCorrectionLocalWhites2012 | 0.260365 |
PaintCorrectionLuminanceNoise | 0.000000 |
PaintCorrectionMaskCenterWeight | 0.031330 |
PaintCorrectionMaskFlow | 0.478558 |
PaintCorrectionMaskRadius (1) | 0.009181 |
PaintCorrectionMaskRadius (10) | 0.020923 |
PaintCorrectionMaskRadius (2) | 0.059458 |
PaintCorrectionMaskRadius (3) | 0.047877 |
PaintCorrectionMaskRadius (4) | 0.031454 |
PaintCorrectionMaskRadius (5) | 0.031484 |
PaintCorrectionMaskRadius (6) | 0.060265 |
PaintCorrectionMaskRadius (7) | 0.052923 |
PaintCorrectionMaskRadius (8) | 0.020884 |
PaintCorrectionMaskRadius (9) | 0.020940 |
PaintCorrectionMaskRadius | 0.003815 |
PaintCorrectionMaskValue | 0.652207 |
PaintCorrectionMaskWhat | Mask/Paint |
PaintCorrectionMoire | 0.000000 |
PaintCorrectionSaturation | 0.000000 |
PaintCorrectionShadows2012 | 0.000000 |
PaintCorrectionSharpness | 0.000000 |
PaintCorrectionTemperature (3) | 0.214475 |
PaintCorrectionTemperature (4) | 0.465576 |
PaintCorrectionTemperature | 0.000000 |
PaintCorrectionTint (4) | 0.175595 |
PaintCorrectionTint | 0.000000 |
PaintCorrectionWhat | Correction |
ParametricDarks | 0 |
ParametricHighlights | 0 |
ParametricHighlightSplit | 75 |
ParametricLights | 0 |
ParametricMidtoneSplit | 50 |
ParametricShadows | 0 |
ParametricShadowSplit | 25 |
PerspectiveAspect | 0 |
PerspectiveHorizontal | 0 |
PerspectiveRotate | 0.0 |
PerspectiveScale | 100 |
PerspectiveUpright | 0 |
PerspectiveVertical | -8 |
PerspectiveX | 0.00 |
PerspectiveY | 0.00 |
PostCropVignetteAmount | -10 |
PostCropVignetteFeather | 50 |
PostCropVignetteHighlightContrast | 0 |
PostCropVignetteMidpoint | 50 |
PostCropVignetteRoundness | 0 |
PostCropVignetteStyle | 1 |
PreservedFileName | D75_0967.NEF |
ProcessVersion | 11.0 |
ProfileDescription | sRGB IEC61966-2.1 |
Rating | 5 |
RawFileName | D75_0967.NEF |
RedHue | 0 |
RedSaturation | 0 |
Rights | © Hans Jørgen Lindeløff 2020 |
Saturation (1) | +5 |
Saturation | Normal |
SaturationAdjustmentAqua | 0 |
SaturationAdjustmentBlue | 0 |
SaturationAdjustmentGreen | 0 |
SaturationAdjustmentMagenta | 0 |
SaturationAdjustmentOrange | 0 |
SaturationAdjustmentPurple | 0 |
SaturationAdjustmentRed | 0 |
SaturationAdjustmentYellow | 0 |
ScaleFactor35efl | 1.0 |
SceneCaptureType | Landscape |
SceneType | Directly photographed |
SensingMethod | One-chip color area |
SensitivityType | Recommended Exposure Index |
SerialNumber | 6128653 |
Shadows2012 | +58 |
ShadowTint | 0 |
SharpenDetail | 25 |
SharpenEdgeMasking | 54 |
SharpenRadius | +1.0 |
Sharpness (1) | 56 |
Sharpness | Normal |
ShutterSpeed | 1/20 |
ShutterSpeedValue | 1/20 |
SplitToningBalance | 0 |
SplitToningHighlightHue | 0 |
SplitToningHighlightSaturation | 0 |
SplitToningShadowHue | 0 |
SplitToningShadowSaturation | 0 |
SubjectDistanceRange | Unknown |
Texture | 0 |
Tint | +6 |
ToneCurveName2012 | Custom |
ToneCurvePV2012 | 0, 0, 60, 60, 145, 155, 255, 255 |
ToneCurvePV2012Blue | 0, 0, 255, 255 |
ToneCurvePV2012Green | 0, 0, 255, 255 |
ToneCurvePV2012Red | 0, 0, 255, 255 |
UsageTerms | All rights reserved |
Version | 13.2 |
Vibrance | +20 |
VignetteAmount | 0 |
VignetteCorrectionAlreadyApplied | True |
WhiteBalance (1) | As Shot |
WhiteBalance | Manual |
Whites2012 | +17 |