Felt | Verdi |
AbsoluteAltitude | +220.869 |
AlreadyApplied | True |
AltitudeType | GpsFusionAlt |
Aperture | 1.7 |
ApertureValue | 1.7 |
ApproximateFocusDistance | 0 |
AutoLateralCA | 0 |
BitsPerSample | 8 |
Blacks2012 | +37 |
BlueHue | +22 |
BlueSaturation | +1 |
CameraProfile | Embedded |
CameraSerialNumber | 6TVQM1K0M2091L |
CamReverse | 0 |
Caption-Abstract | default |
CircleOfConfusion | 0.008 mm |
Clarity2012 | +10 |
ColorComponents | 3 |
ColorGradeBlending | 100 |
ColorGradeGlobalHue | 0 |
ColorGradeGlobalLum | 0 |
ColorGradeGlobalSat | 0 |
ColorGradeHighlightLum | 0 |
ColorGradeMidtoneHue | 0 |
ColorGradeMidtoneLum | 0 |
ColorGradeMidtoneSat | 0 |
ColorGradeShadowLum | 0 |
ColorNoiseReduction | 25 |
ColorNoiseReductionDetail | 50 |
ColorNoiseReductionSmoothness | 50 |
ColorSpace | sRGB |
ColorTemperature | 6200 |
ColorTransform | YCbCr |
Contrast | Normal |
Contrast2012 | +10 |
ConvertToGrayscale | False |
CreateDate (1) | 2024:07:14 20:41:15+02:00 |
CreateDate | 2024:07:14 20:41:15 |
CreatorTool | Adobe Lightroom 7.4.1 (Windows) |
CropAngle | 0 |
CropBottom | 1 |
CropConstrainToWarp | 0 |
CropLeft | 0 |
CropRight | 1 |
CropTop | 0 |
CurveRefineSaturation | 100 |
CustomRendered | Normal |
DateCreated (1) | 2024:07:14 |
DateCreated | 2024:07:14 20:41:15 |
DateTimeOriginal | 2024:07:14 20:41:15 |
DefringeGreenAmount | 0 |
DefringeGreenHueHi | 60 |
DefringeGreenHueLo | 40 |
DefringePurpleAmount | 0 |
DefringePurpleHueHi | 70 |
DefringePurpleHueLo | 30 |
Dehaze | 0 |
Description | default |
DigitalZoomRatio | 1 |
DistortionCorrectionAlreadyApplied | True |
DOF | inf (0.00 m - inf) |
Exposure2012 | +0.12 |
ExposureCompensation | 0 |
ExposureMode | Auto |
ExposureProgram | Program AE |
ExposureTime | 1/200 |
Flash | No flash function |
FlightPitchDegree | -2.80 |
FlightRollDegree | +0.30 |
FlightXSpeed | 0.0 |
FlightYawDegree | -41.30 |
FlightYSpeed | 0.0 |
FlightZSpeed | 0.0 |
FNumber | 1.7 |
FocalLength | 6.7 mm |
FocalLength35efl | 6.7 mm (35 mm equivalent: 24.0 mm) |
FocalLengthIn35mmFormat | 24 mm |
Format | image/jpeg |
FOV | 73.7 deg |
GainControl | None |
GimbalPitchDegree | -90.00 |
GimbalReverse | 0 |
GimbalRollDegree | +0.00 |
GimbalYawDegree | -64.30 |
GPSAltitude (1) | 220.869 m |
GPSAltitude | 220.8 m Above Sea Level |
GPSAltitudeRef | Above Sea Level |
GPSLatitude (2) | 60 deg 5' 4.70" |
GPSLatitude | 60 deg 5' 4.70" N |
GPSLatitudeRef | North |
GPSLongitude (2) | 5 deg 14' 59.25" |
GPSLongitude | 5 deg 14' 59.25" E |
GPSLongitudeRef | East |
GPSMapDatum | WGS-84 |
GPSPosition | 60 deg 5' 4.70" N, 5 deg 14' 59.25" E |
GPSStatus | Measurement Active |
GpsStatus | Normal |
GPSVersionID | 2.3.0.0 |
GrainAmount | 0 |
GreenHue | +34 |
GreenSaturation | +22 |
HasCrop | False |
HasSettings | True |
HDREditMode | 0 |
Highlights2012 | -55 |
HueAdjustmentAqua | -5 |
HueAdjustmentBlue | -12 |
HueAdjustmentGreen | -2 |
HueAdjustmentMagenta | -1 |
HueAdjustmentOrange | -22 |
HueAdjustmentPurple | +2 |
HueAdjustmentRed | 0 |
HueAdjustmentYellow | -1 |
HyperfocalDistance | 3.16 m |
ImageDescription | default |
ImageHeight | 2268 |
ImageSize | 4032x2268 |
ImageWidth | 4032 |
ISO | 100 |
LateralChromaticAberrationCorrectionAlreadyApplied | True |
Lens | 24.0 mm f/1.7 |
LensInfo | 24mm f/1.7 |
LensManualDistortionAmount | 0 |
LensModel | 24.0 mm f/1.7 |
LensProfileEnable | 0 |
LightSource | Cloudy |
LightValue | 9.2 |
LuminanceAdjustmentAqua | -18 |
LuminanceAdjustmentBlue | -26 |
LuminanceAdjustmentGreen | -3 |
LuminanceAdjustmentMagenta | 0 |
LuminanceAdjustmentOrange | -1 |
LuminanceAdjustmentPurple | -6 |
LuminanceAdjustmentRed | -3 |
LuminanceAdjustmentYellow | -6 |
LuminanceSmoothing | 0 |
Make | DJI |
MaxApertureValue | 1.7 |
Megapixels | 9.1 |
MeteringMode | Average |
Model | FC8482 |
ModifyDate (1) | 2024:07:14 22:01:37+02:00 |
ModifyDate | 2024:07:14 22:01:37 |
OverrideLookVignette | False |
ParametricDarks | 0 |
ParametricHighlights | 0 |
ParametricHighlightSplit | 75 |
ParametricLights | 0 |
ParametricMidtoneSplit | 60 |
ParametricShadows | 0 |
ParametricShadowSplit | 14 |
PerspectiveAspect | 0 |
PerspectiveHorizontal | 0 |
PerspectiveRotate | 0.0 |
PerspectiveScale | 100 |
PerspectiveUpright | 0 |
PerspectiveVertical | 0 |
PerspectiveX | 0.00 |
PerspectiveY | 0.00 |
PointColors | -1.000000, -1.000000, -1.000000, -1.000000, -1.000000, -1.000000, -1.000000, -1.000000, -1.000000, -1.000000, -1.000000, -1.000000, -1.000000, -1.000000, -1.000000, -1.000000, -1.000000, -1.000000, -1.000000 |
PostCropVignetteAmount | 0 |
ProcessVersion | 15.4 |
ProductName | Mini4 Pro |
ProfileDescription | sRGB IEC61966-2.1 |
RawFileName | DJI_20240714204115_0012_D.DNG |
RedHue | 0 |
RedSaturation | 0 |
RelativeAltitude | +118.700 |
Saturation (1) | +1 |
Saturation | Normal |
SaturationAdjustmentAqua | +7 |
SaturationAdjustmentBlue | -12 |
SaturationAdjustmentGreen | -49 |
SaturationAdjustmentMagenta | -10 |
SaturationAdjustmentOrange | -14 |
SaturationAdjustmentPurple | -14 |
SaturationAdjustmentRed | -7 |
SaturationAdjustmentYellow | -6 |
ScaleFactor35efl | 3.6 |
SceneCaptureType | Standard |
SceneType | Directly photographed |
SelfData | |
SensitivityType | Recommended Exposure Index |
SensorFPS | 29.97 |
SensorTemperature | 33.0 |
SerialNumber | 6TVQM1K0M2091L |
Shadows2012 | +42 |
ShadowTint | 0 |
SharpenDetail | 25 |
SharpenEdgeMasking | 0 |
SharpenRadius | +1.0 |
Sharpness (1) | 40 |
Sharpness | Normal |
ShutterSpeed | 1/200 |
ShutterSpeedValue | 1/200 |
ShutterType | Electronic |
Software | Adobe Lightroom 7.4.1 (Windows) |
SplitToningBalance | +36 |
SplitToningHighlightHue | 21 |
SplitToningHighlightSaturation | 6 |
SplitToningShadowHue | 27 |
SplitToningShadowSaturation | 3 |
SubjectDistance | 0 m |
SurveyingMode | 0 |
Texture | 0 |
Tint | +31 |
ToneCurveName2012 | Custom |
ToneCurvePV2012 | 0, 0, 74, 59, 125, 121, 190, 189, 255, 233 |
ToneCurvePV2012Blue | 0, 0, 77, 51, 138, 132, 194, 203, 255, 252 |
ToneCurvePV2012Green | 0, 0, 69, 47, 130, 127, 193, 196, 255, 255 |
ToneCurvePV2012Red | 0, 0, 80, 56, 130, 123, 199, 202, 255, 255 |
Version (1) | 1.6 |
Version | 16.4 |
Vibrance | -4 |
VignetteAmount | 0 |
WhiteBalance (1) | As Shot |
WhiteBalance | Auto |
WhiteBalanceCCT | 5932 |
Whites2012 | -49 |