Felt | Verdi |
AlreadyApplied | True |
Aperture | 8.0 |
ApertureValue | 8.0 |
Artist | Leif Arvid Øvernes |
BitsPerSample | 8 |
BlueHue | 0 |
BlueSaturation | 0 |
Brightness | -70 |
By-line | Leif Arvid Øvernes |
CameraProfile | ACR 3.1 |
ChromaticAberrationB | 0 |
ChromaticAberrationR | 0 |
CircleOfConfusion | 0.019 mm |
Clarity | 52 |
ColorComponents | 3 |
ColorMode | RGB |
ColorNoiseReduction | 25 |
ColorSpace (1) | Unknown (-1) |
ColorSpace | Uncalibrated |
ColorTemperature | 9100 |
Contrast | +63 |
ConvertToGrayscale | False |
CopyrightFlag | False |
CreateDate (1) | 2008:02:03 19:22+01:00 |
CreateDate | 2008:01:30 15:18:37 |
Creator | Leif Arvid Øvernes |
CreatorTool | Adobe Photoshop CS3 Windows |
CustomRendered | Normal |
DateTimeDigitized | 2008:01:30 15:18:37+01:00 |
DateTimeOriginal (1) | 2008:01:30 15:18:37+01:00 |
DateTimeOriginal | 2008:01:30 15:18:37 |
Defringe | 0 |
DerivedFrom | |
ExifImageHeight | 533 |
ExifImageWidth | 800 |
Exposure | +1.95 |
ExposureCompensation | 0 |
ExposureMode | Auto |
ExposureProgram | Aperture-priority AE |
ExposureTime | 1/60 |
FillLight | 0 |
Firmware | 1.0.3 |
Flash | Off, Did not fire |
FlashCompensation | 0 |
FlashFired | False |
FlashFunction | False |
FlashMode | Off |
FlashRedEyeMode | False |
FlashReturn | No return detection |
FNumber | 8.0 |
FocalLength | 300.0 mm |
FocalLength35efl | 300.0 mm (35 mm equivalent: 486.7 mm) |
Format | image/jpeg |
FOV | 4.2 deg |
GreenHue | 0 |
GreenSaturation | 0 |
HasCrop | False |
HasSettings | True |
HierarchicalSubject | Anledning|Fotoshoot, Bildetype|Dyr, Fauna|Strand og Vannkant, Fotograf|Leif Arvid Øvernes, Sted|Sandvedparken, Vær|Overskyet |
HighlightRecovery | 12 |
HueAdjustmentAqua | 0 |
HueAdjustmentBlue | 0 |
HueAdjustmentGreen | 0 |
HueAdjustmentMagenta | 0 |
HueAdjustmentOrange | 0 |
HueAdjustmentPurple | 0 |
HueAdjustmentRed | 0 |
HueAdjustmentYellow | 0 |
HyperfocalDistance | 607.40 m |
ICCProfileName | Adobe RGB (1998) |
ImageHeight (1) | 1024 |
ImageHeight | 533 |
ImageNumber | 221 |
ImageSize | 800x533 |
ImageWidth (1) | 1536 |
ImageWidth | 800 |
ISO | 100 |
Keywords | Anledning/Fotoshoot, Bildetype/Dyr, Fauna/Strand og Vannkant, Fotograf/Leif Arvid Øvernes, Sted/Sandvedparken, Vær/Overskyet |
Lens | 70.0-300.0 mm |
LensInfo | 70-300mm f/? |
LightValue | 11.9 |
LuminanceAdjustmentAqua | 0 |
LuminanceAdjustmentBlue | 0 |
LuminanceAdjustmentGreen | 0 |
LuminanceAdjustmentMagenta | 0 |
LuminanceAdjustmentOrange | 0 |
LuminanceAdjustmentPurple | 0 |
LuminanceAdjustmentRed | 0 |
LuminanceAdjustmentYellow | 0 |
LuminanceSmoothing | 76 |
Make | Canon |
MaxApertureValue | 4.5 |
Megapixels | 0.426 |
MeteringMode | Average |
Model | Canon EOS 350D DIGITAL |
ModifyDate (1) | 2008:02:03 19:22+01:00 |
ModifyDate | 2008:02:03 19:22:00 |
Orientation | Horizontal (normal) |
OwnerName | Leif Arvid Øvernes |
ParametricDarks | 0 |
ParametricHighlights | 0 |
ParametricHighlightSplit | 75 |
ParametricLights | 0 |
ParametricMidtoneSplit | 50 |
ParametricShadows | 0 |
ParametricShadowSplit | 25 |
ProfileDescription | Adobe RGB (1998) |
Rating | 5 |
RawFileName | _MG_4573.CR2 |
RedHue | 0 |
RedSaturation | 0 |
Saturation | 0 |
SaturationAdjustmentAqua | 0 |
SaturationAdjustmentBlue | 0 |
SaturationAdjustmentGreen | 0 |
SaturationAdjustmentMagenta | 0 |
SaturationAdjustmentOrange | 0 |
SaturationAdjustmentPurple | 0 |
SaturationAdjustmentRed | 0 |
SaturationAdjustmentYellow | 0 |
ScaleFactor35efl | 1.6 |
SceneCaptureType | Standard |
SerialNumber | 1030614508 |
Shadows | 6 |
ShadowTint | 0 |
SharpenDetail | 4 |
SharpenEdgeMasking | 99 |
SharpenRadius | +1.3 |
Sharpness | 87 |
ShutterSpeed | 1/60 |
ShutterSpeedValue | 1/60 |
Software | Adobe Photoshop CS3 Windows |
SplitToningBalance | 0 |
SplitToningHighlightHue | 0 |
SplitToningHighlightSaturation | 0 |
SplitToningShadowHue | 0 |
SplitToningShadowSaturation | 0 |
Subject | Anledning/Fotoshoot, Bildetype/Dyr, Fauna/Strand og Vannkant, Fotograf/Leif Arvid Øvernes, Sted/Sandvedparken, Vær/Overskyet |
Tint | +17 |
ToneCurve | 0, 0, 32, 16, 64, 50, 128, 128, 192, 202, 255, 255 |
ToneCurveName | Strong Contrast |
URL_List | |
Version | 4.3.1 |
Vibrance | 0 |
VignetteAmount | 0 |
WhiteBalance (2) | Custom |
WhiteBalance | Auto |