Felt | Verdi |
AlreadyApplied | True |
Aperture | 6.3 |
ApertureValue | 6.3 |
BitsPerSample (1) | 16, 16, 16 |
BitsPerSample (2) | 16 16 16 |
BitsPerSample | 8 |
BlueHue | 0 |
BlueSaturation | 0 |
Brightness | +43 |
CameraProfile | Adobe Standard |
ChromaticAberrationB | 0 |
ChromaticAberrationR | 0 |
CircleOfConfusion | 0.031 mm |
Clarity | +10 |
ColorComponents | 3 |
ColorMode | RGB |
ColorNoiseReduction | 7 |
ColorSpace | sRGB |
ColorTemperature | 5350 |
Contrast | +41 |
ConvertToGrayscale | False |
CopyrightFlag | False |
CreateDate (1) | 2009:05:23 01:58:48+02:00 |
CreateDate | 2009:05:20 18:04:32 |
CreatorTool | Adobe Photoshop CS3 Windows |
CropAngle | 3.06234 |
CropBottom | 0.995587 |
CropHeight | 2717 |
CropLeft | 0.240236 |
CropRight | 0.886643 |
CropTop | 0.217114 |
CropUnit | pixels |
CropWidth | 3780 |
CustomRendered | Normal |
DateTimeDigitized | 2009:05:20 18:04:32.99+02:00 |
DateTimeOriginal (1) | 2009:05:20 18:04:32.99+02:00 |
DateTimeOriginal | 2009:05:20 18:04:32 |
Defringe | 0 |
ExifImageHeight | 736 |
ExifImageWidth | 1024 |
Exposure | +0.67 |
ExposureCompensation | +1/3 |
ExposureMode | Auto |
ExposureProgram | Aperture-priority AE |
ExposureTime | 1/1000 |
FillLight | 0 |
Firmware | 1.0.7 |
Flash | Off, Did not fire |
FlashCompensation | 0 |
FlashFired | False |
FlashFunction | False |
FlashMode | Off |
FlashRedEyeMode | False |
FlashReturn | No return detection |
FNumber | 6.3 |
FocalLength | 135.0 mm |
FocalLength35efl | 135.0 mm (35 mm equivalent: 131.8 mm) |
Format | image/jpeg |
FOV | 15.6 deg |
GreenHue | 0 |
GreenSaturation | 0 |
HasCrop | True |
HasSettings | True |
HighlightRecovery | 0 |
HueAdjustmentAqua | 0 |
HueAdjustmentBlue | 0 |
HueAdjustmentGreen | 0 |
HueAdjustmentMagenta | 0 |
HueAdjustmentOrange | 0 |
HueAdjustmentPurple | 0 |
HueAdjustmentRed | 0 |
HueAdjustmentYellow | 0 |
HyperfocalDistance | 93.96 m |
ICCProfileName | sRGB IEC61966-2.1 |
ImageHeight (2) | 2717 |
ImageHeight | 736 |
ImageNumber | 0 |
ImageSize | 1024x736 |
ImageWidth (1) | 3780 |
ImageWidth | 1024 |
ISO | 400 |
Lens | EF100-400mm f/4.5-5.6L IS USM |
LensInfo | 100-400mm f/? |
LightValue | 13.3 |
LuminanceAdjustmentAqua | +45 |
LuminanceAdjustmentBlue | +36 |
LuminanceAdjustmentGreen | 0 |
LuminanceAdjustmentMagenta | 0 |
LuminanceAdjustmentOrange | +5 |
LuminanceAdjustmentPurple | 0 |
LuminanceAdjustmentRed | +5 |
LuminanceAdjustmentYellow | 0 |
LuminanceSmoothing | 25 |
Make | Canon |
MaxApertureValue | 5.2 |
Megapixels | 0.754 |
MeteringMode | Multi-segment |
Model | Canon EOS 5D Mark II |
ModifyDate (1) | 2009:05:23 01:59:33+02:00 |
ModifyDate | 2009:05:23 01:59:33 |
Orientation | Horizontal (normal) |
ParametricDarks | 0 |
ParametricHighlights | -2 |
ParametricHighlightSplit | 75 |
ParametricLights | -2 |
ParametricMidtoneSplit | 50 |
ParametricShadows | 0 |
ParametricShadowSplit | 25 |
PhotometricInterpretation | RGB |
PlanarConfiguration | Chunky |
PostCropVignetteAmount | 0 |
ProfileDescription | sRGB IEC61966-2.1 |
RedHue | 0 |
RedSaturation | 0 |
SamplesPerPixel | 3 |
Saturation | 0 |
SaturationAdjustmentAqua | -100 |
SaturationAdjustmentBlue | -100 |
SaturationAdjustmentGreen | 0 |
SaturationAdjustmentMagenta | 0 |
SaturationAdjustmentOrange | -5 |
SaturationAdjustmentPurple | 0 |
SaturationAdjustmentRed | 0 |
SaturationAdjustmentYellow | -5 |
ScaleFactor35efl | 1.0 |
SceneCaptureType | Standard |
SerialNumber | 530320270 |
Shadows | 0 |
ShadowTint | 0 |
SharpenDetail | 30 |
SharpenEdgeMasking | 12 |
SharpenRadius | +1.0 |
Sharpness | 50 |
ShutterSpeed | 1/1000 |
ShutterSpeedValue | 1/1000 |
Software | Adobe Photoshop CS3 Windows |
SplitToningBalance | 0 |
SplitToningHighlightHue | 0 |
SplitToningHighlightSaturation | 0 |
SplitToningShadowHue | 0 |
SplitToningShadowSaturation | 0 |
Tint | 0 |
ToneCurve | 0, 0, 32, 22, 64, 56, 128, 128, 192, 196, 255, 255 |
ToneCurveName | Medium Contrast |
URL_List | |
Version | 5.3 |
Vibrance | 0 |
VignetteAmount | 0 |
WhiteBalance (2) | As Shot |
WhiteBalance | Auto |