Felt | Verdi |
AlreadyApplied | True |
Aperture | 16.0 |
ApertureValue | 16.0 |
Artist | Morten Prom |
BitsPerSample | 8 |
BlueHue | 0 |
BlueSaturation | 0 |
Brightness | 0 |
By-line | Morten Prom |
CameraProfile | Embedded |
Caption-Abstract | The hour before the sun rises can be a fantastic time :) |
ChromaticAberrationB | 0 |
ChromaticAberrationR | 0 |
CircleOfConfusion | 0.019 mm |
Clarity | +36 |
ColorComponents | 3 |
ColorMode | RGB |
ColorNoiseReduction | 0 |
ColorSpace (1) | Unknown (-1) |
ColorSpace | Uncalibrated |
Contrast | 0 |
ConvertToGrayscale | False |
Copyright | Copyright Morten Prom |
CopyrightFlag | True |
CopyrightNotice | Copyright Morten Prom |
CreateDate (1) | 2009:04:28 01:57:24+02:00 |
CreateDate | 2009:04:26 05:18:26 |
Creator | Morten Prom |
CreatorCity | Oslo |
CreatorCountry | Norway |
CreatorTool | Adobe Photoshop CS3 Windows |
CreatorWorkEmail | morten.prom@gmail.com |
CreatorWorkURL | http://www.mortenprom.com/ |
CropAngle | 0.191738 |
CropBottom | 1 |
CropHeight | 938 |
CropLeft | 0.002382 |
CropRight | 0.972067 |
CropTop | 0.006913 |
CropUnit | pixels |
CropWidth | 1281 |
CustomRendered | Normal |
DateTimeDigitized | 2009:04:26 05:18:26.70+02:00 |
DateTimeOriginal (1) | 2009:04:26 05:18:26.70+02:00 |
DateTimeOriginal | 2009:04:26 05:18:26 |
Defringe | 0 |
Description | The hour before the sun rises can be a fantastic time :) |
ExifImageHeight | 938 |
ExifImageWidth | 1281 |
Exposure | 0.00 |
ExposureCompensation | 0 |
ExposureMode | Manual |
ExposureProgram | Manual |
ExposureTime | 30 |
FillLight | 7 |
Firmware | 1.0.8 |
Flash | Off, Did not fire |
FlashCompensation | 0 |
FlashFired | False |
FlashFunction | False |
FlashMode | Off |
FlashRedEyeMode | False |
FlashReturn | No return detection |
FNumber | 16.0 |
FocalLength | 10.0 mm |
FocalLength35efl | 10.0 mm (35 mm equivalent: 16.2 mm) |
Format | image/jpeg |
FOV | 96.1 deg |
GreenHue | 0 |
GreenSaturation | 0 |
HasCrop | True |
HasSettings | True |
HierarchicalSubject | 2009, april, architecture, beach, black, brown, building, canon 40d, clouds, color, golden, green, house, island, landscape, light, long exposure, morning, mortenprom, nature, norge, norway, ocean, orange, peninsula, polarizer filter, red, rocks, roof, sea, shore, sigma 10-20mm, sky, spring, sunrise, water, wideangle, yellow |
HighlightRecovery | 9 |
HueAdjustmentAqua | 0 |
HueAdjustmentBlue | 0 |
HueAdjustmentGreen | 0 |
HueAdjustmentMagenta | 0 |
HueAdjustmentOrange | 0 |
HueAdjustmentPurple | 0 |
HueAdjustmentRed | 0 |
HueAdjustmentYellow | 0 |
HyperfocalDistance | 0.34 m |
ICCProfileName | Adobe RGB (1998) |
ImageDescription | The hour before the sun rises can be a fantastic time :) |
ImageHeight | 938 |
ImageNumber | 0 |
ImageSize | 1281x938 |
ImageWidth | 1281 |
IncrementalTemperature | 0 |
IncrementalTint | 0 |
ISO | 100 |
Keywords | 2009, april, architecture, beach, black, brown, building, canon 40d, clouds, color, golden, green, house, island, landscape, light, long exposure, morning, mortenprom, nature, norge, norway, ocean, orange, peninsula, polarizer filter, red, rocks, roof, sea, shore, sigma 10-20mm, sky, spring, sunrise, water, wideangle, yellow |
Lens | 10-20mm |
LensInfo | 10-20mm f/? |
LightValue | 3.1 |
LuminanceAdjustmentAqua | 0 |
LuminanceAdjustmentBlue | 0 |
LuminanceAdjustmentGreen | 0 |
LuminanceAdjustmentMagenta | 0 |
LuminanceAdjustmentOrange | 0 |
LuminanceAdjustmentPurple | 0 |
LuminanceAdjustmentRed | 0 |
LuminanceAdjustmentYellow | 0 |
LuminanceSmoothing | 0 |
Make | Canon |
Marked | True |
MaxApertureValue | 4.0 |
Megapixels | 1.2 |
MeteringMode | Multi-segment |
Model | Canon EOS 40D |
ModifyDate (1) | 2009:04:28 01:57:24+02:00 |
ModifyDate | 2009:04:28 01:57:24 |
ObjectName | Twilight Fantasy |
Orientation | Horizontal (normal) |
ParametricDarks | 0 |
ParametricHighlights | 0 |
ParametricHighlightSplit | 75 |
ParametricLights | 0 |
ParametricMidtoneSplit | 50 |
ParametricShadows | 0 |
ParametricShadowSplit | 25 |
PostCropVignetteAmount | 0 |
ProfileDescription | Adobe RGB (1998) |
RedHue | 0 |
RedSaturation | 0 |
Rights | Copyright Morten Prom |
Saturation | +2 |
SaturationAdjustmentAqua | 0 |
SaturationAdjustmentBlue | 0 |
SaturationAdjustmentGreen | 0 |
SaturationAdjustmentMagenta | 0 |
SaturationAdjustmentOrange | 0 |
SaturationAdjustmentPurple | 0 |
SaturationAdjustmentRed | 0 |
SaturationAdjustmentYellow | 0 |
ScaleFactor35efl | 1.6 |
SceneCaptureType | Standard |
SerialNumber | 330112890 |
Shadows | 0 |
ShadowTint | 0 |
SharpenDetail | 25 |
SharpenEdgeMasking | 0 |
SharpenRadius | +1.0 |
Sharpness | 0 |
ShutterSpeed | 30 |
ShutterSpeedValue | 30 |
Software | Adobe Photoshop CS3 Windows |
SplitToningBalance | 0 |
SplitToningHighlightHue | 0 |
SplitToningHighlightSaturation | 0 |
SplitToningShadowHue | 0 |
SplitToningShadowSaturation | 0 |
Subject | 2009, april, architecture, beach, black, brown, building, canon 40d, clouds, color, golden, green, house, island, landscape, light, long exposure, morning, mortenprom, nature, norge, norway, ocean, orange, peninsula, polarizer filter, red, rocks, roof, sea, shore, sigma 10-20mm, sky, spring, sunrise, water, wideangle, yellow |
Title | Twilight Fantasy |
ToneCurve | 0, 0, 255, 255 |
ToneCurveName | Linear |
URL | http://www.mortenprom.com/ |
URL_List | |
UsageTerms | http://www.mortenprom.com/ |
Version | 4.5 |
Vibrance | +29 |
VignetteAmount | 0 |
WebStatement | http://www.mortenprom.com/ |
WhiteBalance (2) | As Shot |
WhiteBalance | Auto |