Felt | Verdi |
AlreadyApplied | True |
Aperture | 13.0 |
ApertureValue | 13.0 |
Artist | Morten Prom |
BitsPerSample | 8 |
BlueHue | 0 |
BlueSaturation | 0 |
Brightness | 0 |
By-line | Morten Prom |
CameraProfile | Embedded |
Caption-Abstract | Welcome to my world. |
ChromaticAberrationB | 0 |
ChromaticAberrationR | 0 |
CircleOfConfusion | 0.019 mm |
Clarity | +24 |
ColorComponents | 3 |
ColorNoiseReduction | 0 |
ColorSpace | Unknown (-1) |
Contrast | +16 |
ConvertToGrayscale | False |
Copyright | Copyright Morten Prom |
CopyrightNotice | Copyright Morten Prom |
CreateDate (1) | 2009:05:07 18:54:51+02:00 |
CreateDate | 2009:05:05 21:21:44 |
Creator | Morten Prom |
CreatorCity | Oslo |
CreatorCountry | Norway |
CreatorTool | Adobe Photoshop Lightroom |
CreatorWorkEmail | morten.prom@gmail.com |
CreatorWorkURL | http://www.mortenprom.com/ |
CropAngle | 0.309072 |
CropBottom | 1 |
CropHeight | 333 |
CropLeft | 0.005797 |
CropRight | 0.994203 |
CropTop | 0 |
CropUnit | pixels |
CropWidth | 500 |
CustomRendered | Normal |
DateTimeDigitized | 2009:05:05 21:21:44.01+02:00 |
DateTimeOriginal (1) | 2009:05:05 21:21:44.01+02:00 |
DateTimeOriginal | 2009:05:05 21:21:44 |
Defringe | 0 |
DerivedFrom | |
Description | Welcome to my world. |
ExifImageHeight | 333 |
ExifImageWidth | 500 |
Exposure | 0.00 |
ExposureCompensation | 0 |
ExposureMode | Manual |
ExposureProgram | Manual |
ExposureTime | 360 |
FillLight | 6 |
Firmware | 1.0.8 |
Flash | Off, Did not fire |
FlashCompensation | 0 |
FlashFired | False |
FlashFunction | False |
FlashMode | Off |
FlashRedEyeMode | False |
FlashReturn | No return detection |
FNumber | 13.0 |
FocalLength | 10.0 mm |
FocalLength35efl | 10.0 mm (35 mm equivalent: 16.2 mm) |
Format | application/vnd.adobe.photoshop |
FOV | 96.1 deg |
GreenHue | 0 |
GreenSaturation | 0 |
HasCrop | True |
HasSettings | True |
HierarchicalSubject | 2009, b+w110, beach, black, brown, canon 40d, clouds, color, dark, evening, forest, golden, golden hour, island, landscape, light, long exposure, march, mortenprom, motion blur, natural density filter, nature, nd 1000x, nd 3.0, nd1000, norge, norway, ocean, orange, oslo, oslo fjord, plant, polarizer filter, reflection, sea, ship, shore, sigma 10-20mm, sky, snow, sun, sunset, water, white, wideangle, winter, yellow |
HighlightRecovery | 5 |
HueAdjustmentAqua | 0 |
HueAdjustmentBlue | 0 |
HueAdjustmentGreen | 0 |
HueAdjustmentMagenta | 0 |
HueAdjustmentOrange | 0 |
HueAdjustmentPurple | 0 |
HueAdjustmentRed | 0 |
HueAdjustmentYellow | 0 |
HyperfocalDistance | 0.41 m |
ImageDescription | Welcome to my world. |
ImageHeight | 333 |
ImageNumber | 0 |
ImageSize | 500x333 |
ImageWidth | 500 |
IncrementalTemperature | 0 |
IncrementalTint | 0 |
ISO | 200 |
Keywords | 2009, b+w110, beach, black, brown, canon 40d, clouds, color, dark, evening, forest, golden, golden hour, island, landscape, light, long exposure, march, mortenprom, motion blur, natural density filter, nature, nd 1000x, nd 3.0, nd1000, norge, norway, ocean, orange, oslo, oslo fjord, plant, polarizer filter, reflection, sea, ship, shore, sigma 10-20mm, sky, snow, sun, sunset, water, white, wideangle, winter, yellow |
Lens | 10-20mm |
LensInfo | 10-20mm f/? |
LightValue | -2.1 |
LuminanceAdjustmentAqua | 0 |
LuminanceAdjustmentBlue | 0 |
LuminanceAdjustmentGreen | 0 |
LuminanceAdjustmentMagenta | 0 |
LuminanceAdjustmentOrange | 0 |
LuminanceAdjustmentPurple | 0 |
LuminanceAdjustmentRed | 0 |
LuminanceAdjustmentYellow | 0 |
LuminanceSmoothing | 0 |
Make | Canon |
Marked | True |
MaxApertureValue | 4.0 |
Megapixels | 0.167 |
MeteringMode | Multi-segment |
Model | Canon EOS 40D |
ModifyDate (1) | 2009:05:07 20:14:44+02:00 |
ModifyDate | 2009:05:07 20:14:44 |
ObjectName | My World |
PaintCorrectionActive | true |
PaintCorrectionAmount | 1.000000 |
PaintCorrectionBrightness | 0.000000 |
PaintCorrectionClarity | 0.000000 |
PaintCorrectionContrast | 0.000000 |
PaintCorrectionExposure (1) | 0.088000 |
PaintCorrectionExposure (2) | 0.198000 |
PaintCorrectionExposure | 0.097000 |
PaintCorrectionHue | 230.000000 |
PaintCorrectionMaskCenterWeight | 0.000000 |
PaintCorrectionMaskFlow | 1.000000 |
PaintCorrectionMaskRadius (1) | 0.095861 |
PaintCorrectionMaskRadius (10) | 0.008169 |
PaintCorrectionMaskRadius (12) | 0.068669 |
PaintCorrectionMaskRadius (2) | 0.057633 |
PaintCorrectionMaskRadius (5) | 0.022564 |
PaintCorrectionMaskRadius (8) | 0.005090 |
PaintCorrectionMaskRadius | 0.031010 |
PaintCorrectionMaskValue (1) | 1.000000 |
PaintCorrectionMaskValue | 0.000000 |
PaintCorrectionMaskWhat | Mask/Paint |
PaintCorrectionSaturation | 0.000000 |
PaintCorrectionSharpness | 0.000000 |
PaintCorrectionWhat | Correction |
ParametricDarks | 0 |
ParametricHighlights | 0 |
ParametricHighlightSplit | 75 |
ParametricLights | 0 |
ParametricMidtoneSplit | 50 |
ParametricShadows | 0 |
ParametricShadowSplit | 25 |
PostCropVignetteAmount | 0 |
ProfileDescription | sRGB IEC61966-2.1 |
RedHue | 0 |
RedSaturation | 0 |
Rights | Copyright Morten Prom |
Saturation | +6 |
SaturationAdjustmentAqua | 0 |
SaturationAdjustmentBlue | 0 |
SaturationAdjustmentGreen | 0 |
SaturationAdjustmentMagenta | 0 |
SaturationAdjustmentOrange | 0 |
SaturationAdjustmentPurple | 0 |
SaturationAdjustmentRed | 0 |
SaturationAdjustmentYellow | 0 |
ScaleFactor35efl | 1.6 |
SceneCaptureType | Standard |
SerialNumber | 330112890 |
Shadows | 0 |
ShadowTint | 0 |
SharpenDetail | 25 |
SharpenEdgeMasking | 0 |
SharpenRadius | +1.0 |
Sharpness | 0 |
ShutterSpeed | 360 |
ShutterSpeedValue | 360 |
Software | Adobe Photoshop CS3 Windows |
SplitToningBalance | 0 |
SplitToningHighlightHue | 0 |
SplitToningHighlightSaturation | 0 |
SplitToningShadowHue | 0 |
SplitToningShadowSaturation | 0 |
Subject | 2009, b+w110, beach, black, brown, canon 40d, clouds, color, dark, evening, forest, golden, golden hour, island, landscape, light, long exposure, march, mortenprom, motion blur, natural density filter, nature, nd 1000x, nd 3.0, nd1000, norge, norway, ocean, orange, oslo, oslo fjord, plant, polarizer filter, reflection, sea, ship, shore, sigma 10-20mm, sky, snow, sun, sunset, water, white, wideangle, winter, yellow |
Title | My World |
ToneCurve | 0, 0, 255, 255 |
ToneCurveName | Linear |
UsageTerms | http://www.mortenprom.com/ |
Version | 4.5 |
Vibrance | +20 |
VignetteAmount | 0 |
WebStatement | http://www.mortenprom.com/ |
WhiteBalance (2) | As Shot |
WhiteBalance | Auto |