Felt | Verdi |
AlreadyApplied | True |
Aperture | 13.0 |
ApertureValue | 13.0 |
Artist | Morten Prom |
BitsPerSample | 8 |
BlueHue | 0 |
BlueSaturation | 0 |
Brightness | +50 |
By-line | Morten Prom |
CameraProfile | ACR 4.4 |
Caption-Abstract | Nighttime journey through the Eiglophian mountains |
ChromaticAberrationB | 0 |
ChromaticAberrationR | 0 |
CircleOfConfusion | 0.019 mm |
Clarity | +73 |
ColorComponents | 3 |
ColorMode | RGB |
ColorNoiseReduction | 25 |
ColorSpace (1) | Unknown (-1) |
ColorSpace | Uncalibrated |
ColorTemperature | 7566 |
Contrast | +80 |
ConvertToGrayscale | False |
Copyright | Copyright Morten Prom |
CopyrightFlag | True |
CopyrightNotice | Copyright Morten Prom |
CreateDate (1) | 2009:06:16 00:59:57+02:00 |
CreateDate | 2009:06:11 20:46:07 |
Creator | Morten Prom |
CreatorCity | Oslo |
CreatorCountry | Norway |
CreatorTool | Adobe Photoshop CS3 Windows |
CreatorWorkEmail | morten.prom@gmail.com |
CreatorWorkURL | http://www.mortenprom.com/ |
CropAngle | 0.164092 |
CropBottom | 1 |
CropHeight | 1022 |
CropLeft | 0.032093 |
CropRight | 0.863004 |
CropTop | 0 |
CropUnit | pixels |
CropWidth | 1281 |
CustomRendered | Normal |
DateTimeDigitized | 2009:06:11 20:46:07.16+02:00 |
DateTimeOriginal (1) | 2009:06:11 20:46:07.16+02:00 |
DateTimeOriginal | 2009:06:11 20:46:07 |
Defringe | 0 |
DerivedFrom | |
Description | Nighttime journey through the Eiglophian mountains |
ExifImageHeight | 1022 |
ExifImageWidth | 1281 |
Exposure | +0.60 |
ExposureCompensation | -1 |
ExposureMode | Auto bracket |
ExposureProgram | Aperture-priority AE |
ExposureTime | 1/90 |
FillLight | 12 |
Firmware | 1.0.8 |
Flash | Off, Did not fire |
FlashCompensation | 0 |
FlashFired | False |
FlashFunction | False |
FlashMode | Off |
FlashRedEyeMode | False |
FlashReturn | No return detection |
FNumber | 13.0 |
FocalLength | 14.0 mm |
FocalLength35efl | 14.0 mm (35 mm equivalent: 22.7 mm) |
Format | image/jpeg |
FOV | 76.9 deg |
GreenHue | 0 |
GreenSaturation | 0 |
HasCrop | True |
HasSettings | True |
HierarchicalSubject | 2009, b+w110, beach, black, canon 40d, clouds, cloudy, color, forest, grass, gray, green, house, landscape, light, man, mortenprom, nature, nd 1000x, nd 3.0, nd1000, norge, norway, ocean, orange, oslo, oslo fjord, plant, rocks, sea, shore, sigma 10-20mm, sky, stone, summer, water, wideangle, yellow |
HighlightRecovery | 100 |
HueAdjustmentAqua | 0 |
HueAdjustmentBlue | 0 |
HueAdjustmentGreen | 0 |
HueAdjustmentMagenta | 0 |
HueAdjustmentOrange | 0 |
HueAdjustmentPurple | 0 |
HueAdjustmentRed | 0 |
HueAdjustmentYellow | 0 |
HyperfocalDistance | 0.81 m |
ICCProfileName | Adobe RGB (1998) |
ImageDescription | Nighttime journey through the Eiglophian mountains |
ImageHeight | 1022 |
ImageNumber | 0 |
ImageSize | 1281x1022 |
ImageWidth | 1281 |
ISO | 100 |
Keywords | 2009, b+w110, beach, black, canon 40d, clouds, cloudy, color, forest, grass, gray, green, house, landscape, light, man, mortenprom, nature, nd 1000x, nd 3.0, nd1000, norge, norway, ocean, orange, oslo, oslo fjord, plant, rocks, sea, shore, sigma 10-20mm, sky, stone, summer, water, wideangle, yellow |
Lens | 10-20mm |
LensInfo | 10-20mm f/? |
LightValue | 13.9 |
LuminanceAdjustmentAqua | 0 |
LuminanceAdjustmentBlue | 0 |
LuminanceAdjustmentGreen | 0 |
LuminanceAdjustmentMagenta | 0 |
LuminanceAdjustmentOrange | 0 |
LuminanceAdjustmentPurple | 0 |
LuminanceAdjustmentRed | 0 |
LuminanceAdjustmentYellow | 0 |
LuminanceSmoothing | 0 |
Make | Canon |
Marked | True |
MaxApertureValue | 5.0 |
Megapixels | 1.3 |
MeteringMode | Multi-segment |
Model | Canon EOS 40D |
ModifyDate (1) | 2009:06:16 00:59:58+02:00 |
ModifyDate | 2009:06:16 00:59:58 |
ObjectName | Nighttime Journey |
Orientation | Horizontal (normal) |
PaintCorrectionActive | true |
PaintCorrectionAmount | 1.000000 |
PaintCorrectionBrightness | 0.000000 |
PaintCorrectionClarity | 0.000000 |
PaintCorrectionContrast | 0.000000 |
PaintCorrectionExposure | 0.000000 |
PaintCorrectionHue | 230.000000 |
PaintCorrectionMaskCenterWeight | 0.000000 |
PaintCorrectionMaskFlow | 1.000000 |
PaintCorrectionMaskRadius | 0.009750 |
PaintCorrectionMaskValue | 1.000000 |
PaintCorrectionMaskWhat | Mask/Paint |
PaintCorrectionSaturation (1) | -0.198000 |
PaintCorrectionSaturation | 0.000000 |
PaintCorrectionSharpness | 0.000000 |
PaintCorrectionWhat | Correction |
ParametricDarks | 0 |
ParametricHighlights | 0 |
ParametricHighlightSplit | 75 |
ParametricLights | 0 |
ParametricMidtoneSplit | 50 |
ParametricShadows | 0 |
ParametricShadowSplit | 25 |
PostCropVignetteAmount | 0 |
ProfileDescription | Adobe RGB (1998) |
Rating | 5 |
RedHue | 0 |
RedSaturation | 0 |
Rights | Copyright Morten Prom |
Saturation | +5 |
SaturationAdjustmentAqua | 0 |
SaturationAdjustmentBlue | 0 |
SaturationAdjustmentGreen | 0 |
SaturationAdjustmentMagenta | 0 |
SaturationAdjustmentOrange | 0 |
SaturationAdjustmentPurple | 0 |
SaturationAdjustmentRed | 0 |
SaturationAdjustmentYellow | 0 |
ScaleFactor35efl | 1.6 |
SceneCaptureType | Standard |
SerialNumber | 330112890 |
Shadows | 10 |
ShadowTint | 0 |
SharpenDetail | 25 |
SharpenEdgeMasking | 0 |
SharpenRadius | +1.0 |
Sharpness | 25 |
ShutterSpeed | 1/90 |
ShutterSpeedValue | 1/90 |
Software | Adobe Photoshop CS3 Windows |
SplitToningBalance | 0 |
SplitToningHighlightHue | 0 |
SplitToningHighlightSaturation | 0 |
SplitToningShadowHue | 0 |
SplitToningShadowSaturation | 0 |
Subject | 2009, b+w110, beach, black, canon 40d, clouds, cloudy, color, forest, grass, gray, green, house, landscape, light, man, mortenprom, nature, nd 1000x, nd 3.0, nd1000, norge, norway, ocean, orange, oslo, oslo fjord, plant, rocks, sea, shore, sigma 10-20mm, sky, stone, summer, water, wideangle, yellow |
Tint | -6 |
Title | Nighttime Journey |
ToneCurve | 0, 0, 32, 22, 64, 56, 128, 128, 192, 196, 255, 255 |
ToneCurveName | Medium Contrast |
URL | http://www.mortenprom.com/ |
URL_List | |
UsageTerms | http://www.mortenprom.com/ |
Version | 4.5 |
Vibrance | +57 |
VignetteAmount | 0 |
WebStatement | http://www.mortenprom.com/ |
WhiteBalance (2) | Custom |
WhiteBalance | Auto |