Felt | Verdi |
AlreadyApplied | True |
Aperture | 5.6 |
ApertureValue | 5.6 |
Artist | Henning Larsen |
BitsPerSample | 8 |
BlueHue | 0 |
BlueSaturation | 0 |
Brightness | +90 |
By-line | Henning Larsen |
CameraProfile | Camera Standard |
CFAPattern | [Green,Red][Blue,Green] |
ChromaticAberrationB | 0 |
ChromaticAberrationR | 0 |
CircleOfConfusion | 0.020 mm |
Clarity | -15 |
ColorComponents | 3 |
ColorMode | RGB |
ColorNoiseReduction | 28 |
ColorSpace | sRGB |
ColorTemperature | 5850 |
Contrast (2) | +25 |
Contrast | Normal |
ConvertToGrayscale | False |
Copyright | Copyright 2009 Henning Larsen |
CopyrightFlag | True |
CopyrightNotice | Copyright 2009 Henning Larsen |
CreateDate (1) | 2009:09:05 15:20:54.41+02:00 |
CreateDate | 2009:09:05 15:20:54 |
Creator | Henning Larsen |
CreatorAddress | Balders Gate 4B |
CreatorCity | Horten |
CreatorCountry | Norway |
CreatorPostalCode | 3182 |
CreatorTool | Adobe Photoshop Lightroom |
CreatorWorkEmail | henning@mixdesign.no |
CropAngle | 0 |
CropBottom | 1 |
CropHeight | 2592 |
CropLeft | 0 |
CropRight | 0.669421 |
CropTop | 0 |
CropUnit | pixels |
CropWidth | 2592 |
CustomRendered | Normal |
DateTimeDigitized | 2009:09:05 15:20:54.41+02:00 |
DateTimeOriginal (1) | 2009:09:05 15:20:54.41+02:00 |
DateTimeOriginal | 2009:09:05 15:20:54 |
Defringe | 0 |
DigitalZoomRatio | 1 |
ExifImageHeight | 800 |
ExifImageWidth | 800 |
Exposure | 0.00 |
ExposureCompensation | 0 |
ExposureMode | Manual |
ExposureProgram | Manual |
ExposureTime | 1/160 |
FillLight | 0 |
Flash | Fired, Return not detected |
FlashFired | True |
FlashFunction | False |
FlashMode | Unknown |
FlashRedEyeMode | False |
FlashReturn | Return not detected |
FNumber | 5.6 |
FocalLength | 75.0 mm |
FocalLength35efl | 75.0 mm (35 mm equivalent: 112.0 mm) |
FocalLengthIn35mmFormat | 112 mm |
Format | image/jpeg |
FOV | 18.3 deg |
GainControl | None |
GreenHue | 0 |
GreenSaturation | 0 |
HasCrop | True |
HasSettings | True |
HierarchicalSubject | NO-GENERELL_ver21/04/2009_@NATURFOKUS|FORM / FARGER / TYPE|BELYSNING|Blitz|Softboks, NO-GENERELL_ver21/04/2009_@NATURFOKUS|FORM / FARGER / TYPE|TYPE|Portrettfoto, NO-GENERELL_ver21/04/2009_@NATURFOKUS|Mennesker|ALDER|Baby|Spedbarn, NO-GENERELL_ver21/04/2009_@NATURFOKUS|Mennesker|Familie|Barn|Sønn|Linus Leth |
HighlightRecovery | 0 |
HueAdjustmentAqua | 0 |
HueAdjustmentBlue | 0 |
HueAdjustmentGreen | 0 |
HueAdjustmentMagenta | 0 |
HueAdjustmentOrange | 0 |
HueAdjustmentPurple | 0 |
HueAdjustmentRed | 0 |
HueAdjustmentYellow | 0 |
HyperfocalDistance | 49.92 m |
ICCProfileName | sRGB IEC61966-2.1 |
ImageHeight (1) | 2592 |
ImageHeight | 800 |
ImageNumber | 11595 |
ImageSize | 800x800 |
ImageWidth (1) | 2592 |
ImageWidth | 800 |
ISO | 200 |
Keywords | ALDER, BELYSNING, Baby, Barn, Blitz, FORM / FARGER / TYPE, Familie, Linus Leth, Mennesker, NO-GENERELL_ver21/04/2009_@NATURFOKUS, Portrettfoto, Softboks, Spedbarn, S¿nn, TYPE |
Lens | 28.0-75.0 mm f/2.8 |
LensInfo | 28-75mm f/2.8 |
LightSource | Flash |
LightValue | 11.3 |
LuminanceAdjustmentAqua | 0 |
LuminanceAdjustmentBlue | 0 |
LuminanceAdjustmentGreen | 0 |
LuminanceAdjustmentMagenta | 0 |
LuminanceAdjustmentOrange | 0 |
LuminanceAdjustmentPurple | 0 |
LuminanceAdjustmentRed | 0 |
LuminanceAdjustmentYellow | 0 |
LuminanceSmoothing | 14 |
Make | NIKON CORPORATION |
Marked | True |
MaxApertureValue | 2.8 |
Megapixels | 0.640 |
MeteringMode | Center-weighted average |
Model | NIKON D200 |
ModifyDate (1) | 2009:10:17 12:54:57+02:00 |
ModifyDate | 2009:10:17 12:54:57 |
Orientation | Horizontal (normal) |
ParametricDarks | -11 |
ParametricHighlights | +13 |
ParametricHighlightSplit | 75 |
ParametricLights | +9 |
ParametricMidtoneSplit | 50 |
ParametricShadows | -1 |
ParametricShadowSplit | 25 |
PostCropVignetteAmount | 0 |
ProfileDescription | sRGB IEC61966-2.1 |
RedHue | 0 |
RedSaturation | 0 |
Rights | Copyright 2009 Henning Larsen |
Saturation (2) | +13 |
Saturation | High |
SaturationAdjustmentAqua | 0 |
SaturationAdjustmentBlue | 0 |
SaturationAdjustmentGreen | 0 |
SaturationAdjustmentMagenta | 0 |
SaturationAdjustmentOrange | 0 |
SaturationAdjustmentPurple | 0 |
SaturationAdjustmentRed | 0 |
SaturationAdjustmentYellow | 0 |
ScaleFactor35efl | 1.5 |
SceneCaptureType | Standard |
SceneType | Directly photographed |
SensingMethod | One-chip color area |
Shadows | 5 |
ShadowTint | 0 |
SharpenDetail | 45 |
SharpenEdgeMasking | 59 |
SharpenRadius | +1.4 |
Sharpness (2) | 103 |
Sharpness | Normal |
ShutterSpeed | 1/160 |
ShutterSpeedValue | 1/160 |
Software | Adobe Photoshop CS4 Macintosh |
SplitToningBalance | 0 |
SplitToningHighlightHue | 0 |
SplitToningHighlightSaturation | 0 |
SplitToningShadowHue | 0 |
SplitToningShadowSaturation | 0 |
Subject | ALDER, BELYSNING, Baby, Barn, Blitz, FORM / FARGER / TYPE, Familie, Linus Leth, Mennesker, NO-GENERELL_ver21/04/2009_@NATURFOKUS, Portrettfoto, Softboks, Spedbarn, Sønn, TYPE |
SubjectDistanceRange | Unknown |
Tint | -22 |
ToneCurve | 0, 0, 32, 22, 64, 56, 128, 128, 192, 196, 255, 255 |
ToneCurveName | Medium Contrast |
URL_List | |
UsageTerms | This image can not be used for any purpose without writen agreement with creator. |
Version | 5.4 |
Vibrance | 0 |
VignetteAmount | 0 |
WhiteBalance (2) | Custom |
WhiteBalance | Manual |