Felt | Verdi |
AlreadyApplied | True |
Aperture | 4.5 |
ApertureValue | 4.5 |
BitsPerSample | 8 |
BlueHue | 0 |
BlueSaturation | 0 |
Brightness | +9 |
CameraProfile | Adobe Standard |
CFAPattern | [Green,Blue][Red,Green] |
ChromaticAberrationB | 0 |
ChromaticAberrationR | 0 |
CircleOfConfusion | 0.020 mm |
Clarity | 0 |
ColorComponents | 1 |
ColorNoiseReduction | 25 |
ColorTemperature | 4350 |
Contrast (2) | +24 |
Contrast | Normal |
ConvertToGrayscale | True |
CreateDate (1) | 2009:03:27 12:28:34.10+02:00 |
CreateDate | 2009:03:27 12:28:34 |
CreatorTool | Adobe Photoshop Lightroom |
CropAngle | 0 |
CropBottom | 0.774403 |
CropHeight | 1327 |
CropLeft | 0.31686 |
CropRight | 0.802326 |
CropTop | 0.273319 |
CropUnit | pixels |
CropWidth | 1920 |
CustomRendered | Normal |
DateTimeDigitized | 2009:03:27 12:28:34.10+02:00 |
DateTimeOriginal (1) | 2009:03:27 12:28:34.10+02:00 |
DateTimeOriginal | 2009:03:27 12:28:34 |
Defringe | 0 |
DigitalZoomRatio | 1 |
ExifImageHeight | 1327 |
ExifImageWidth | 1920 |
Exposure | +0.58 |
ExposureCompensation | 0 |
ExposureMode | Auto |
ExposureProgram | Program AE |
ExposureTime | 1/80 |
FillLight | 8 |
Flash | No Flash |
FlashFired | False |
FlashFunction | False |
FlashMode | Unknown |
FlashRedEyeMode | False |
FlashReturn | No return detection |
FNumber | 4.5 |
FocalLength | 24.0 mm |
FocalLength35efl | 24.0 mm (35 mm equivalent: 36.0 mm) |
FocalLengthIn35mmFormat | 36 mm |
FOV | 53.1 deg |
GainControl | None |
GrayMixerAqua | -19 |
GrayMixerBlue | +8 |
GrayMixerGreen | -27 |
GrayMixerMagenta | +4 |
GrayMixerOrange | -19 |
GrayMixerPurple | +15 |
GrayMixerRed | -9 |
GrayMixerYellow | -22 |
GreenHue | 0 |
GreenSaturation | 0 |
HasCrop | True |
HasSettings | True |
HighlightRecovery | 21 |
HyperfocalDistance | 6.39 m |
ImageHeight | 1327 |
ImageNumber | 7722 |
ImageSize | 1920x1327 |
ImageWidth | 1920 |
ISO | 100 |
Lens | 10.0-24.0 mm f/3.5-4.5 |
LensInfo | 10-24mm f/3.5-4.5 |
LightSource | Fine Weather |
LightValue | 10.7 |
LuminanceSmoothing | 0 |
Make | NIKON CORPORATION |
MaxApertureValue | 4.4 |
Megapixels | 2.5 |
MeteringMode | Spot |
Model | NIKON D80 |
ModifyDate (1) | 2009:04:22 13:05:00+02:00 |
ModifyDate | 2009:04:22 13:05:00 |
ParametricDarks | 0 |
ParametricHighlights | 0 |
ParametricHighlightSplit | 75 |
ParametricLights | 0 |
ParametricMidtoneSplit | 50 |
ParametricShadows | 0 |
ParametricShadowSplit | 25 |
PostCropVignetteAmount | 0 |
ProfileDescription | sRGB IEC61966-2.1 |
RedHue | 0 |
RedSaturation | 0 |
Saturation | Normal |
ScaleFactor35efl | 1.5 |
SceneCaptureType | Standard |
SceneType | Directly photographed |
SensingMethod | One-chip color area |
SerialNumber | 4125120 |
Shadows | 70 |
ShadowTint | 0 |
SharpenDetail | 25 |
SharpenEdgeMasking | 0 |
SharpenRadius | +1.0 |
Sharpness (2) | 25 |
Sharpness | Normal |
ShutterSpeed | 1/80 |
ShutterSpeedValue | 1/80 |
Software | Ver.1.10 |
SplitToningBalance | 0 |
SplitToningHighlightHue | 0 |
SplitToningHighlightSaturation | 0 |
SplitToningShadowHue | 0 |
SplitToningShadowSaturation | 0 |
SubjectDistanceRange | Unknown |
Tint | +28 |
ToneCurve | 0, 0, 255, 255 |
ToneCurveName | Linear |
Version | 5.3 |
VignetteAmount | 0 |
WhiteBalance (2) | Auto |
WhiteBalance | Manual |