Felt | Verdi |
AlreadyApplied | True |
Aperture | 6.3 |
ApertureValue | 6.3 |
Artist | {Kristine Gjesdal} |
AuthorsPosition | Användare av en digitalkamera från Nikon |
BitsPerSample | 8 |
BlueHue | 0 |
BlueSaturation | 0 |
Brightness | +18 |
By-line | {Kristine Gjesdal} |
By-lineTitle | Användare av en digitalkamera fr |
CameraProfile | ACR 4.4 |
CFAPattern | [Red,Green][Green,Blue] |
ChromaticAberrationB | 0 |
ChromaticAberrationR | 0 |
CircleOfConfusion | 0.020 mm |
Clarity | +66 |
ColorComponents | 3 |
ColorNoiseReduction | 25 |
ColorTemperature | 4200 |
Contrast (2) | +25 |
Contrast | Normal |
ConvertToGrayscale | False |
Copyright | (C)2009 {Krisitne Gjesdal}, all rights reserved |
CopyrightNotice | (C)2009 {Krisitne Gjesdal}, all rights reserved |
CreateDate (1) | 2009:06:27 11:26:36.33+02:00 |
CreateDate | 2009:06:27 11:26:36 |
Creator | {Kristine Gjesdal} |
CreatorAddress | Helleveien 202, 5039 Bergen, Norway |
CreatorTool | Nikon Transfer 1.0 W |
CustomRendered | Normal |
DateTimeDigitized | 2009:06:27 11:26:36.33+02:00 |
DateTimeOriginal (1) | 2009:06:27 11:26:36.33+02:00 |
DateTimeOriginal | 2009:06:27 11:26:36 |
Defringe | 0 |
DigitalZoomRatio | 1 |
ExifImageHeight | 4288 |
ExifImageWidth | 2848 |
Exposure | 0.00 |
ExposureCompensation | 0 |
ExposureMode | Auto |
ExposureProgram | Program AE |
ExposureTime | 1/160 |
FillLight | 0 |
Flash | No Flash |
FlashFired | False |
FlashFunction | False |
FlashMode | Unknown |
FlashRedEyeMode | False |
FlashReturn | No return detection |
FNumber | 6.3 |
FocalLength | 90.0 mm |
FocalLength35efl | 90.0 mm (35 mm equivalent: 135.0 mm) |
FocalLengthIn35mmFormat | 135 mm |
FOV | 15.2 deg |
GainControl | None |
GreenHue | 0 |
GreenSaturation | 0 |
HasCrop | False |
HasSettings | True |
HighlightRecovery | 66 |
HueAdjustmentAqua | 0 |
HueAdjustmentBlue | 0 |
HueAdjustmentGreen | 0 |
HueAdjustmentMagenta | 0 |
HueAdjustmentOrange | 0 |
HueAdjustmentPurple | 0 |
HueAdjustmentRed | 0 |
HueAdjustmentYellow | 0 |
HyperfocalDistance | 64.19 m |
ImageHeight | 4288 |
ImageNumber | 2529 |
ImageSize | 2848x4288 |
ImageWidth | 2848 |
ISO | 320 |
Lens | 90.0 mm f/2.8 |
LensInfo | 90mm f/2.8 |
LightSource | Unknown |
LightValue | 11.0 |
LuminanceAdjustmentAqua | 0 |
LuminanceAdjustmentBlue | 0 |
LuminanceAdjustmentGreen | 0 |
LuminanceAdjustmentMagenta | 0 |
LuminanceAdjustmentOrange | 0 |
LuminanceAdjustmentPurple | 0 |
LuminanceAdjustmentRed | 0 |
LuminanceAdjustmentYellow | 0 |
LuminanceSmoothing | 0 |
Make | NIKON CORPORATION |
MaxApertureValue | 3.7 |
Megapixels | 12.2 |
MeteringMode | Spot |
Model | NIKON D300 |
ModifyDate (1) | 2010:03:03 20:19:30+01:00 |
ModifyDate | 2010:03:03 20:19:30 |
ParametricDarks | 0 |
ParametricHighlights | 0 |
ParametricHighlightSplit | 75 |
ParametricLights | 0 |
ParametricMidtoneSplit | 50 |
ParametricShadows | 0 |
ParametricShadowSplit | 25 |
PostCropVignetteAmount | 0 |
ProfileDescription | Adobe RGB (1998) |
Rating | 5 |
RawFileName | DSC_2470.NEF |
RedHue | 0 |
RedSaturation | 0 |
Rights | (C)2009 {Krisitne Gjesdal}, all rights reserved |
Saturation (2) | 0 |
Saturation | Normal |
SaturationAdjustmentAqua | 0 |
SaturationAdjustmentBlue | 0 |
SaturationAdjustmentGreen | 0 |
SaturationAdjustmentMagenta | 0 |
SaturationAdjustmentOrange | 0 |
SaturationAdjustmentPurple | 0 |
SaturationAdjustmentRed | 0 |
SaturationAdjustmentYellow | 0 |
ScaleFactor35efl | 1.5 |
SceneCaptureType | Standard |
SceneType | Directly photographed |
SensingMethod | One-chip color area |
SerialNumber | 4072331 |
Shadows | 20 |
ShadowTint | 0 |
SharpenDetail | 25 |
SharpenEdgeMasking | 0 |
SharpenRadius | +1.0 |
Sharpness (2) | 25 |
Sharpness | Normal |
ShutterSpeed | 1/160 |
ShutterSpeedValue | 1/160 |
Software | Nikon Transfer 1.0 W |
SplitToningBalance | 0 |
SplitToningHighlightHue | 0 |
SplitToningHighlightSaturation | 0 |
SplitToningShadowHue | 0 |
SplitToningShadowSaturation | 0 |
SubjectDistanceRange | Unknown |
Tint | +9 |
ToneCurve | 0, 0, 32, 22, 64, 56, 128, 128, 192, 196, 255, 255 |
ToneCurveName | Medium Contrast |
UsageTerms | Endast för påseende. Reproduktion är inte tillåten utan föregående tillåtelse |
Version | 5.0 |
Vibrance | 0 |
VignetteAmount | 0 |
WhiteBalance (2) | As Shot |
WhiteBalance | Auto |