Felt | Verdi |
AlreadyApplied | True |
Aperture | 6.3 |
ApertureValue | 6.3 |
Artist | Kristine Gjesdal |
BitsPerSample | 8 |
BlueHue | 0 |
BlueSaturation | 0 |
Brightness | +71 |
By-line | Kristine Gjesdal |
CameraProfile | ACR 4.4 |
CFAPattern | [Red,Green][Green,Blue] |
ChromaticAberrationB | 0 |
ChromaticAberrationR | 0 |
CircleOfConfusion | 0.020 mm |
Clarity | +41 |
ColorComponents | 1 |
ColorNoiseReduction | 25 |
ColorTemperature | 6200 |
Contrast (2) | +46 |
Contrast | Normal |
ConvertToGrayscale | True |
Copyright | kristinegjesdal@2010 |
CopyrightNotice | kristinegjesdal@2010 |
CreateDate (1) | 2010:05:05 19:48:17.49+02:00 |
CreateDate | 2010:05:05 19:48:17 |
Creator | Kristine Gjesdal |
CreatorTool | Ver.1.00 |
CropAngle | 0 |
CropBottom | 0.822894 |
CropLeft | 0.169297 |
CropRight | 1 |
CropTop | 0.161987 |
CustomRendered | Normal |
DateTimeDigitized | 2010:05:05 19:48:17.49+02:00 |
DateTimeOriginal (1) | 2010:05:05 19:48:17.49+02:00 |
DateTimeOriginal | 2010:05:05 19:48:17 |
Defringe | 0 |
DigitalZoomRatio | 1 |
ExifImageHeight | 1882 |
ExifImageWidth | 3562 |
Exposure | +0.25 |
ExposureCompensation | 0 |
ExposureMode | Auto |
ExposureProgram | Program AE |
ExposureTime | 1/160 |
FillLight | 38 |
Flash | No Flash |
FlashFired | False |
FlashFunction | False |
FlashMode | Unknown |
FlashRedEyeMode | False |
FlashReturn | No return detection |
FNumber | 6.3 |
FocalLength | 20.0 mm |
FocalLength35efl | 20.0 mm (35 mm equivalent: 30.0 mm) |
FocalLengthIn35mmFormat | 30 mm |
FOV | 61.9 deg |
GainControl | None |
GrayMixerAqua | 0 |
GrayMixerBlue | -2 |
GrayMixerGreen | -4 |
GrayMixerMagenta | 0 |
GrayMixerOrange | -51 |
GrayMixerPurple | 0 |
GrayMixerRed | -3 |
GrayMixerYellow | 0 |
GreenHue | 0 |
GreenSaturation | 0 |
HasCrop | True |
HasSettings | True |
HighlightRecovery | 100 |
HyperfocalDistance | 3.17 m |
ImageHeight | 1882 |
ImageNumber | 4957 |
ImageSize | 3562x1882 |
ImageWidth | 3562 |
ISO | 320 |
Lens | 10.0-20.0 mm f/4.0-5.6 |
LensInfo | 10-20mm f/4-5.6 |
LightSource | Unknown |
LightValue | 11.0 |
LuminanceSmoothing | 0 |
Make | NIKON CORPORATION |
MaxApertureValue | 5.7 |
Megapixels | 6.7 |
MeteringMode | Spot |
Model | NIKON D300 |
ModifyDate (1) | 2010:05:22 21:01:31+02:00 |
ModifyDate | 2010:05:22 21:01:31 |
ParametricDarks | 0 |
ParametricHighlights | 0 |
ParametricHighlightSplit | 75 |
ParametricLights | 0 |
ParametricMidtoneSplit | 50 |
ParametricShadows | 0 |
ParametricShadowSplit | 25 |
PostCropVignetteAmount | 0 |
ProfileDescription | Gray Gamma 2.2 |
Rating | 5 |
RawFileName | _DSC4888.NEF |
RedHue | 0 |
RedSaturation | 0 |
Rights | kristinegjesdal@2010 |
Saturation | Normal |
ScaleFactor35efl | 1.5 |
SceneCaptureType | Standard |
SceneType | Directly photographed |
SensingMethod | One-chip color area |
SerialNumber | 4072331 |
Shadows | 0 |
ShadowTint | 0 |
SharpenDetail | 25 |
SharpenEdgeMasking | 0 |
SharpenRadius | +1.0 |
Sharpness (2) | 25 |
Sharpness | Normal |
ShutterSpeed | 1/160 |
ShutterSpeedValue | 1/160 |
Software | Ver.1.00 |
SplitToningBalance | 0 |
SplitToningHighlightHue | 0 |
SplitToningHighlightSaturation | 0 |
SplitToningShadowHue | 0 |
SplitToningShadowSaturation | 0 |
SubjectDistanceRange | Unknown |
Tint | -3 |
ToneCurve | 0, 0, 32, 22, 64, 56, 128, 128, 192, 196, 255, 255 |
ToneCurveName | Medium Contrast |
Version | 5.0 |
VignetteAmount | 0 |
WhiteBalance (2) | As Shot |
WhiteBalance | Auto |