Felt | Verdi |
AlreadyApplied | True |
Aperture | 3.5 |
ApertureValue | 3.5 |
BitsPerSample | 8 |
BlueHue | 0 |
BlueSaturation | 0 |
Brightness | 0 |
CameraProfile | Embedded |
ChromaticAberrationB | +48 |
ChromaticAberrationR | -36 |
CircleOfConfusion | 0.019 mm |
Clarity | 0 |
ColorComponents | 3 |
ColorNoiseReduction | 57 |
ColorNoiseReductionDetail | 50 |
Contrast | 0 |
ConvertToGrayscale | False |
CreateDate (1) | 2008:05:02 15:06:07.96+02:00 |
CreateDate | 2008:05:02 15:06:07 |
CreatorTool | Adobe Photoshop Lightroom |
CropAngle | 0 |
CropBottom | 0.841176 |
CropConstrainToWarp | 0 |
CropHeight | 3270 |
CropLeft | 0 |
CropRight | 1 |
CropTop | 0 |
CropUnit | pixels |
CropWidth | 2592 |
CustomRendered | Normal |
DateTimeDigitized | 2008:05:02 15:06:07.96+02:00 |
DateTimeOriginal (1) | 2008:05:02 15:06:07.96+02:00 |
DateTimeOriginal | 2008:05:02 15:06:07 |
Defringe | 0 |
DOF | 15.77 m (11.26 - 27.03 m) |
ExifImageHeight | 3270 |
ExifImageWidth | 2592 |
Exposure | 0.00 |
ExposureCompensation | 0 |
ExposureMode | Auto |
ExposureProgram | Not Defined |
ExposureTime | 1/3200 |
FillLight | 0 |
Firmware | 1.0.4 |
Flash | Off, Did not fire |
FlashCompensation | 0 |
FlashFired | False |
FlashFunction | False |
FlashMode | Off |
FlashRedEyeMode | False |
FlashReturn | No return detection |
FNumber | 3.5 |
FocalLength | 50.0 mm |
FocalLength35efl | 50.0 mm (35 mm equivalent: 80.9 mm) |
FOV | 25.1 deg |
GrainAmount | 0 |
GreenHue | -70 |
GreenSaturation | -1 |
HasCrop | True |
HasSettings | True |
HighlightRecovery | 0 |
HueAdjustmentAqua | 0 |
HueAdjustmentBlue | +83 |
HueAdjustmentGreen | -12 |
HueAdjustmentMagenta | 0 |
HueAdjustmentOrange | 0 |
HueAdjustmentPurple | 0 |
HueAdjustmentRed | 0 |
HueAdjustmentYellow | -5 |
HyperfocalDistance | 38.48 m |
ImageHeight | 3270 |
ImageNumber | 0 |
ImageSize | 2592x3270 |
ImageWidth | 2592 |
IncrementalTemperature | +29 |
IncrementalTint | +70 |
ISO | 125 |
Lens | 50-150mm |
LensID (1) | 131 |
LensID | Sigma APO 50-150mm f/2.8 [II] EX DC HSM |
LensInfo | 50-150mm f/? |
LensManualDistortionAmount | 0 |
LensProfileEnable | 0 |
LensProfileSetup | LensDefaults |
LightValue | 14.9 |
LuminanceAdjustmentAqua | 0 |
LuminanceAdjustmentBlue | -29 |
LuminanceAdjustmentGreen | +5 |
LuminanceAdjustmentMagenta | 0 |
LuminanceAdjustmentOrange | 0 |
LuminanceAdjustmentPurple | 0 |
LuminanceAdjustmentRed | 0 |
LuminanceAdjustmentYellow | +79 |
LuminanceNoiseReductionContrast | 43 |
LuminanceNoiseReductionDetail | 50 |
LuminanceSmoothing | 50 |
Make | Canon |
MaxApertureValue | 2.8 |
Megapixels | 8.5 |
MeteringMode | Multi-segment |
Model | Canon EOS 40D |
ModifyDate (1) | 2010:08:16 22:02:39+02:00 |
ModifyDate | 2010:08:16 22:02:39 |
ParametricDarks | 0 |
ParametricHighlights | 0 |
ParametricHighlightSplit | 75 |
ParametricLights | 0 |
ParametricMidtoneSplit | 50 |
ParametricShadows | 0 |
ParametricShadowSplit | 25 |
PerspectiveHorizontal | 0 |
PerspectiveRotate | -0.3 |
PerspectiveScale | 89 |
PerspectiveVertical | 0 |
PostCropVignetteAmount | 0 |
ProcessVersion | 5.7 |
ProfileDescription | sRGB IEC61966-2.1 |
RedHue | -25 |
RedSaturation | 0 |
Saturation | 0 |
SaturationAdjustmentAqua | 0 |
SaturationAdjustmentBlue | -31 |
SaturationAdjustmentGreen | 0 |
SaturationAdjustmentMagenta | 0 |
SaturationAdjustmentOrange | 0 |
SaturationAdjustmentPurple | 0 |
SaturationAdjustmentRed | 0 |
SaturationAdjustmentYellow | -14 |
ScaleFactor35efl | 1.6 |
SceneCaptureType | Standard |
SerialNumber | 730400130 |
Shadows | 0 |
ShadowTint | 0 |
SharpenDetail | 25 |
SharpenEdgeMasking | 44 |
SharpenRadius | +1.3 |
Sharpness | 57 |
ShutterSpeed | 1/3200 |
ShutterSpeedValue | 1/3200 |
Software | Adobe Photoshop Lightroom |
SplitToningBalance | +1 |
SplitToningHighlightHue | 172 |
SplitToningHighlightSaturation | 5 |
SplitToningShadowHue | 209 |
SplitToningShadowSaturation | 41 |
SubjectDistance | 15.9 m |
ToneCurve | 0, 0, 255, 255 |
ToneCurveName | Linear |
Version | 6.1 |
Vibrance | 0 |
VignetteAmount | +21 |
VignetteMidpoint | 51 |
WhiteBalance (2) | Custom |
WhiteBalance | Manual |