Felt | Verdi |
AlreadyApplied | True |
BitsPerSample | 8 |
BlueHue | 0 |
BlueSaturation | 0 |
Brightness | +50 |
By-line | Alf M. Sollund |
CameraProfile | Adobe Standard |
Caption-Abstract | EPSON DSC Picture |
CaptionWriter | Alf M. Sollund |
ChromaticAberrationB | 0 |
ChromaticAberrationR | 0 |
Clarity | +26 |
ColorComponents | 3 |
ColorNoiseReduction | 25 |
ColorTemperature | 4024 |
Contrast | +5 |
ConvertToGrayscale | False |
Copyright | Alf M. Sollund |
CopyrightFlag | True |
CopyrightNotice | Alf M. Sollund |
CreateDate (1) | 2010:08:29 18:55:24+02:00 |
CreateDate | 2010:08:29 18:55:24 |
Creator | Alf M. Sollund |
CreatorAddress | Amtmanns gt 15 |
CreatorCity | Tromsø |
CreatorCountry | Norway |
CreatorPostalCode | 9008 |
CreatorRegion | Norway |
CreatorTool | Adobe Photoshop Lightroom |
CreatorWorkEmail | alf-martin.sollund@telenor.com |
CreatorWorkTelephone | +4791889676 |
CreatorWorkURL | flyalf.com |
CropAngle | 0 |
CropBottom | 0.938144 |
CropHeight | 681 |
CropLeft | 0.020619 |
CropRight | 0.938144 |
CropTop | 0.020619 |
CropUnit | pixels |
CropWidth | 1024 |
CustomRendered | Normal |
DateTimeDigitized | 2010:08:29 18:55:24+02:00 |
DateTimeOriginal (1) | 2010:08:29 18:55:24+02:00 |
DateTimeOriginal | 2010:08:29 18:55:24 |
Defringe | 0 |
Description | EPSON DSC Picture |
ExifImageHeight | 681 |
ExifImageWidth | 1024 |
Exposure | +1.05 |
ExposureCompensation | 0 |
ExposureMode | Auto |
ExposureProgram | Aperture-priority AE |
ExposureTime | 1/45 |
FillLight | 7 |
Flash | No flash function |
FlashFired | False |
FlashFunction | True |
FlashMode | Unknown |
FlashRedEyeMode | False |
FlashReturn | No return detection |
GainControl | None |
GreenHue | 0 |
GreenSaturation | 0 |
HasCrop | True |
HasSettings | True |
HighlightRecovery | 90 |
HueAdjustmentAqua | 0 |
HueAdjustmentBlue | 0 |
HueAdjustmentGreen | 0 |
HueAdjustmentMagenta | 0 |
HueAdjustmentOrange | 0 |
HueAdjustmentPurple | 0 |
HueAdjustmentRed | 0 |
HueAdjustmentYellow | 0 |
ImageDescription | EPSON DSC Picture |
ImageHeight | 681 |
ImageSize | 1024x681 |
ImageWidth | 1024 |
ISO | 200 |
Keywords | Budapest, OMA, travel |
LightSource | Unknown |
LuminanceAdjustmentAqua | 0 |
LuminanceAdjustmentBlue | 0 |
LuminanceAdjustmentGreen | 0 |
LuminanceAdjustmentMagenta | 0 |
LuminanceAdjustmentOrange | 0 |
LuminanceAdjustmentPurple | 0 |
LuminanceAdjustmentRed | 0 |
LuminanceAdjustmentYellow | 0 |
LuminanceSmoothing | 0 |
Make | SEIKO EPSON CORP. |
Marked | True |
Megapixels | 0.697 |
MeteringMode | Center-weighted average |
Model | R-D1 |
ModifyDate (1) | 2010:09:01 11:50:01+02:00 |
ModifyDate | 2010:09:01 11:50:01 |
ParametricDarks | 0 |
ParametricHighlights | 0 |
ParametricHighlightSplit | 75 |
ParametricLights | 0 |
ParametricMidtoneSplit | 50 |
ParametricShadows | 0 |
ParametricShadowSplit | 25 |
PostCropVignetteAmount | 0 |
ProfileDescription | sRGB IEC61966-2.1 |
Rating | 5 |
RedHue | 0 |
RedSaturation | 0 |
Rights | Alf M. Sollund |
Saturation | +7 |
SaturationAdjustmentAqua | 0 |
SaturationAdjustmentBlue | 0 |
SaturationAdjustmentGreen | 0 |
SaturationAdjustmentMagenta | 0 |
SaturationAdjustmentOrange | 0 |
SaturationAdjustmentPurple | 0 |
SaturationAdjustmentRed | 0 |
SaturationAdjustmentYellow | 0 |
SceneCaptureType | Standard |
SceneType | Directly photographed |
Shadows | 5 |
ShadowTint | 0 |
SharpenDetail | 25 |
SharpenEdgeMasking | 23 |
SharpenRadius | +0.8 |
Sharpness | 50 |
ShutterSpeed | 1/45 |
ShutterSpeedValue | 1/45 |
Software | E04106-0200 |
SplitToningBalance | 0 |
SplitToningHighlightHue | 0 |
SplitToningHighlightSaturation | 0 |
SplitToningShadowHue | 0 |
SplitToningShadowSaturation | 0 |
Subject | Budapest, OMA, travel |
Tint | -2 |
ToneCurve | 0, 0, 32, 22, 64, 56, 128, 128, 192, 196, 255, 255 |
ToneCurveName | Medium Contrast |
Version | 5.6.1 |
Vibrance | +17 |
VignetteAmount | 0 |
WhiteBalance (2) | Custom |
WhiteBalance | Auto |
Writer-Editor | Alf M. Sollund |