Felt | Verdi |
AlreadyApplied | True |
Aperture | 2.8 |
ApertureValue | 2.8 |
BitsPerSample | 8 |
BlueHue | 0 |
BlueSaturation | 0 |
Brightness | 0 |
CameraProfile | Embedded |
Caption-Abstract | OLYMPUS DIGITAL CAMERA |
ChromaticAberrationB | 0 |
ChromaticAberrationR | 0 |
CircleOfConfusion | 0.015 mm |
Clarity | 0 |
ColorComponents | 1 |
ColorNoiseReduction | 0 |
Contrast (2) | +37 |
Contrast | Normal |
ConvertToGrayscale | True |
CreateDate (1) | 2011:04:21 10:37:32+02:00 |
CreateDate | 2011:04:21 10:37:32 |
CreatorTool | Adobe Photoshop Lightroom 3.3 |
CropAngle | 0 |
CropBottom | 0.58928 |
CropConstrainToWarp | 0 |
CropHeight | 675 |
CropLeft | 0.358439 |
CropRight | 0.605118 |
CropTop | 0.342601 |
CropUnit | pixels |
CropWidth | 900 |
CustomRendered | Normal |
DateTimeDigitized | 2011:04:21 10:37:32+02:00 |
DateTimeOriginal (1) | 2011:04:21 10:37:32+02:00 |
DateTimeOriginal | 2011:04:21 10:37:32 |
Defringe | 0 |
Description | OLYMPUS DIGITAL CAMERA |
DigitalZoomRatio | 1 |
ExifImageHeight | 675 |
ExifImageWidth | 900 |
Exposure | +0.65 |
ExposureCompensation | 0 |
ExposureMode | Auto |
ExposureProgram | Aperture-priority AE |
ExposureTime | 1/250 |
FillLight | 14 |
Flash | On, Fired |
FlashCompensation | 0 |
FlashFired | True |
FlashFunction | False |
FlashMode | On |
FlashRedEyeMode | False |
FlashReturn | No return detection |
FNumber | 2.8 |
FocalLength | 12.0 mm |
FocalLength35efl | 12.0 mm (35 mm equivalent: 24.0 mm) |
FocalLengthIn35mmFormat | 24 mm |
FOV | 73.7 deg |
GainControl | High gain up |
GrainAmount | 0 |
GrayMixerAqua | -18 |
GrayMixerBlue | +9 |
GrayMixerGreen | -27 |
GrayMixerMagenta | +3 |
GrayMixerOrange | -20 |
GrayMixerPurple | +15 |
GrayMixerRed | -13 |
GrayMixerYellow | -23 |
GreenHue | 0 |
GreenSaturation | 0 |
HasCrop | True |
HasSettings | True |
HighlightRecovery | 8 |
HyperfocalDistance | 3.42 m |
ImageDescription | OLYMPUS DIGITAL CAMERA |
ImageHeight | 675 |
ImageSize | 900x675 |
ImageWidth | 900 |
IncrementalTemperature | 0 |
IncrementalTint | 0 |
ISO | 320 |
Lens | 12.0-60.0 mm f/2.8-4.0 |
LensInfo | 12-60mm f/2.8-4 |
LensManualDistortionAmount | 0 |
LensModel | 12.0-60.0 mm f/2.8-4.0 |
LensProfileEnable | 0 |
LensProfileSetup | LensDefaults |
LensSerialNumber | 230025225 |
LightSource | Unknown |
LightValue | 9.3 |
LuminanceNoiseReductionContrast | 0 |
LuminanceNoiseReductionDetail | 50 |
LuminanceSmoothing | 15 |
Make | OLYMPUS IMAGING CORP. |
MaxApertureValue | 2.8 |
Megapixels | 0.608 |
MeteringMode | Multi-segment |
Model | E-3 |
ModifyDate (1) | 2011:04:25 21:01:34+02:00 |
ModifyDate | 2011:04:25 21:01:34 |
PaintCorrectionActive | true |
PaintCorrectionAmount | 1.000000 |
PaintCorrectionBrightness | 0.000000 |
PaintCorrectionClarity (1) | 0.317647 |
PaintCorrectionClarity (2) | -1.000000 |
PaintCorrectionClarity (3) | 0.129412 |
PaintCorrectionClarity | 0.152941 |
PaintCorrectionContrast (1) | 0.000000 |
PaintCorrectionContrast (3) | 0.176471 |
PaintCorrectionContrast | 0.129412 |
PaintCorrectionExposure (1) | 0.929412 |
PaintCorrectionExposure | 0.000000 |
PaintCorrectionHue | 240.000000 |
PaintCorrectionMaskCenterWeight | 0.000000 |
PaintCorrectionMaskFlow | 1.000000 |
PaintCorrectionMaskRadius (1) | 0.076889 |
PaintCorrectionMaskRadius (2) | 0.036912 |
PaintCorrectionMaskRadius (3) | 0.023990 |
PaintCorrectionMaskRadius (8) | 0.033601 |
PaintCorrectionMaskRadius | 0.009049 |
PaintCorrectionMaskValue | 1.000000 |
PaintCorrectionMaskWhat | Mask/Paint |
PaintCorrectionSaturation | 0.000000 |
PaintCorrectionSharpness (2) | 0.250000 |
PaintCorrectionSharpness (3) | 0.317647 |
PaintCorrectionSharpness | 0.247059 |
PaintCorrectionWhat | Correction |
ParametricDarks | 0 |
ParametricHighlights | 0 |
ParametricHighlightSplit | 75 |
ParametricLights | 0 |
ParametricMidtoneSplit | 50 |
ParametricShadows | 0 |
ParametricShadowSplit | 25 |
PerspectiveHorizontal | 0 |
PerspectiveRotate | 0.0 |
PerspectiveScale | 100 |
PerspectiveVertical | 0 |
PostCropVignetteAmount | 0 |
ProcessVersion | 5.7 |
ProfileDescription | sRGB IEC61966-2.1 |
RedHue | 0 |
RedSaturation | 0 |
Saturation | High |
ScaleFactor35efl | 2.0 |
SceneCaptureType | Standard |
SensitivityType | Unknown |
SerialNumber | D70512201 |
Shadows | 68 |
ShadowTint | 0 |
SharpenDetail | 25 |
SharpenEdgeMasking | 0 |
SharpenRadius | +1.0 |
Sharpness (2) | 0 |
Sharpness | Hard |
ShutterSpeed | 1/250 |
ShutterSpeedValue | 1/250 |
Software | Version 1.4 |
SplitToningBalance | 0 |
SplitToningHighlightHue | 0 |
SplitToningHighlightSaturation | 0 |
SplitToningShadowHue | 49 |
SplitToningShadowSaturation | 0 |
ToneCurve | 0, 0, 255, 255 |
ToneCurveName | Linear |
Version | 6.3 |
VignetteAmount | 0 |
WhiteBalance (2) | As Shot |
WhiteBalance | Auto |