Felt | Verdi |
AlreadyApplied | True |
Aperture | 10.0 |
ApertureValue | 10.0 |
Artist | Helge Stuve |
BitsPerSample | 8 |
BlueHue | 0 |
BlueSaturation | 0 |
Brightness | +23 |
By-line | Helge Stuve |
CameraProfile | Embedded |
ChromaticAberrationB | 0 |
ChromaticAberrationR | 0 |
CircleOfConfusion | 0.020 mm |
Clarity | +37 |
ColorComponents | 3 |
ColorMode | RGB |
ColorNoiseReduction | 20 |
ColorSpace | sRGB |
ColorTemperature | 4450 |
Contrast (2) | +53 |
Contrast | High |
ConvertToGrayscale | False |
Copyright | Helge Stuve |
CopyrightFlag | False |
CopyrightNotice | Helge Stuve |
CreateDate (1) | 2011:06:12 21:55:27+02:00 |
CreateDate | 2011:06:08 12:23:54 |
Creator | Helge Stuve |
CreatorTool | Adobe Photoshop Elements 7.0 Windows |
CustomRendered | Normal |
DateTimeDigitized | 2011:06:08 12:23:54+02:00 |
DateTimeOriginal (1) | 2011:06:08 12:23:54+02:00 |
DateTimeOriginal | 2011:06:08 12:23:54 |
Defringe | 0 |
ExifImageHeight | 1000 |
ExifImageWidth | 1500 |
Exposure | 0.00 |
ExposureCompensation | 0 |
ExposureMode | Auto |
ExposureProgram | Aperture-priority AE |
ExposureTime | 1/200 |
FillLight | 0 |
Flash | Off, Did not fire |
FlashFired | False |
FlashFunction | False |
FlashMode | Off |
FlashRedEyeMode | False |
FlashReturn | No return detection |
FNumber | 10.0 |
FocalLength | 100.0 mm |
FocalLength35efl | 100.0 mm (35 mm equivalent: 150.0 mm) |
FocalLengthIn35mmFormat | 150 mm |
Format | image/jpeg |
FOV | 13.7 deg |
GreenHue | 0 |
GreenSaturation | 0 |
HasCrop | False |
HasSettings | True |
HighlightRecovery | 27 |
HueAdjustmentAqua | 0 |
HueAdjustmentBlue | 0 |
HueAdjustmentGreen | 0 |
HueAdjustmentMagenta | 0 |
HueAdjustmentOrange | 0 |
HueAdjustmentPurple | 0 |
HueAdjustmentRed | 0 |
HueAdjustmentYellow | 0 |
HyperfocalDistance | 49.92 m |
ICCProfileName | sRGB IEC61966-2.1 |
ImageHeight | 1000 |
ImageSize | 1500x1000 |
ImageWidth | 1500 |
ISO | 200 |
Lens | smc PENTAX-D FA 100mm F2.8 MACRO |
LensID (1) | 4 52 |
LensID | smc PENTAX-D FA 100mm F2.8 Macro |
LensInfo | 100mm f/2.8 |
LightValue | 13.3 |
LuminanceAdjustmentAqua | 0 |
LuminanceAdjustmentBlue | 0 |
LuminanceAdjustmentGreen | 0 |
LuminanceAdjustmentMagenta | 0 |
LuminanceAdjustmentOrange | 0 |
LuminanceAdjustmentPurple | 0 |
LuminanceAdjustmentRed | 0 |
LuminanceAdjustmentYellow | 0 |
LuminanceSmoothing | 1 |
Make | PENTAX |
Megapixels | 1.5 |
MeteringMode | Multi-segment |
Model | PENTAX K-5 |
ModifyDate (1) | 2011:06:12 21:55:27+02:00 |
ModifyDate | 2011:06:12 21:55:27 |
Orientation | Horizontal (normal) |
ParametricDarks | 0 |
ParametricHighlights | 0 |
ParametricHighlightSplit | 75 |
ParametricLights | 0 |
ParametricMidtoneSplit | 50 |
ParametricShadows | 0 |
ParametricShadowSplit | 25 |
PostCropVignetteAmount | 0 |
ProfileDescription | sRGB IEC61966-2.1 |
Rating | 0 |
RawFileName | IMGP0328.DNG |
RedHue | 0 |
RedSaturation | 0 |
Rights | Helge Stuve |
Saturation (2) | +4 |
Saturation | High |
SaturationAdjustmentAqua | 0 |
SaturationAdjustmentBlue | 0 |
SaturationAdjustmentGreen | 0 |
SaturationAdjustmentMagenta | 0 |
SaturationAdjustmentOrange | 0 |
SaturationAdjustmentPurple | 0 |
SaturationAdjustmentRed | 0 |
SaturationAdjustmentYellow | 0 |
ScaleFactor35efl | 1.5 |
SceneCaptureType | Standard |
SensingMethod | One-chip color area |
Shadows | 4 |
ShadowTint | 0 |
SharpenDetail | 73 |
SharpenEdgeMasking | 28 |
SharpenRadius | +1.2 |
Sharpness (2) | 111 |
Sharpness | Hard |
ShutterSpeed | 1/200 |
ShutterSpeedValue | 1/200 |
Software | Adobe Photoshop Elements 7.0 Windows |
SplitToningBalance | 0 |
SplitToningHighlightHue | 0 |
SplitToningHighlightSaturation | 0 |
SplitToningShadowHue | 0 |
SplitToningShadowSaturation | 0 |
SubjectDistanceRange | Macro |
Tint | -10 |
ToneCurve | 0, 0, 32, 22, 64, 56, 128, 128, 192, 196, 255, 255 |
ToneCurveName | Medium Contrast |
URL_List | |
Version | 5.6 |
Vibrance | +25 |
VignetteAmount | 0 |
WhiteBalance (2) | As Shot |
WhiteBalance | Auto |