Felt | Verdi |
AlreadyApplied | True |
BitsPerSample | 8 |
BlueHue | 0 |
BlueSaturation | 0 |
Brightness | +50 |
CameraProfile | Adobe Standard |
CFAPattern | [Green,Blue][Red,Green] |
ChromaticAberrationB | 0 |
ChromaticAberrationR | 0 |
Clarity | 0 |
ColorComponents | 1 |
ColorMode | RGB |
ColorNoiseReduction | 25 |
ColorNoiseReductionDetail | 50 |
ColorSpace | Uncalibrated |
ColorTemperature | 2900 |
Contrast (1) | +25 |
Contrast | Normal |
ConvertToGrayscale | True |
CreateDate (1) | 2011:10:01 22:27:07.00+02:00 |
CreateDate | 2011:10:01 22:27:07 |
CreatorTool | Ver.1.00 |
CropAngle | 0 |
CropBottom | 1 |
CropLeft | 0.280597 |
CropRight | 0.832836 |
CropTop | 0.30735 |
CustomRendered | Normal |
DateCreated (1) | 2011:10:01 |
DateCreated | 2011:10:01 22:27:07 |
DateTimeOriginal | 2011:10:01 22:27:07 |
Defringe | 0 |
DigitalZoomRatio | 1 |
ExifImageHeight | 945 |
ExifImageWidth | 793 |
Exposure | +0.66 |
ExposureCompensation | 0 |
ExposureMode | Manual |
ExposureProgram | Manual |
ExposureTime | 1/10 |
FillLight | 22 |
Flash | No Flash |
Format | image/jpeg |
GainControl | Low gain up |
GrainAmount | 0 |
GrayMixerAqua | -20 |
GrayMixerBlue | +3 |
GrayMixerGreen | -22 |
GrayMixerMagenta | +5 |
GrayMixerOrange | -10 |
GrayMixerPurple | +11 |
GrayMixerRed | +4 |
GrayMixerYellow | -45 |
GreenHue | 0 |
GreenSaturation | 0 |
HasCrop | True |
HasSettings | True |
HighlightRecovery | 54 |
ICCProfileName | ProPhoto RGB |
ImageHeight | 945 |
ImageNumber | 11726 |
ImageSize | 793x945 |
ImageWidth | 793 |
ISO | 800 |
Label | |
Lens | 0.0 mm f/0.0 |
LensInfo | 0mm f/0 |
LightSource | Unknown |
LuminanceSmoothing | 0 |
Make | NIKON CORPORATION |
MaxApertureValue | 1.0 |
Megapixels | 0.749 |
MeteringMode | Center-weighted average |
Model | NIKON D3000 |
ModifyDate (1) | 2011:10:09 13:33:43+02:00 |
ModifyDate | 2011:10:09 13:33:43 |
Orientation | Horizontal (normal) |
ParametricDarks | 0 |
ParametricHighlights | 0 |
ParametricHighlightSplit | 75 |
ParametricLights | 0 |
ParametricMidtoneSplit | 50 |
ParametricShadows | 0 |
ParametricShadowSplit | 25 |
PostCropVignetteAmount | 0 |
ProcessVersion | 5.7 |
ProfileDescription | ProPhoto RGB |
Rating | 0 |
RawFileName | 034.NEF |
RedHue | 0 |
RedSaturation | 0 |
Saturation | Normal |
SceneCaptureType | Standard |
SceneType | Directly photographed |
SensingMethod | One-chip color area |
SerialNumber | 6123330 |
Shadows | 3 |
ShadowTint | 0 |
SharpenDetail | 25 |
SharpenEdgeMasking | 0 |
SharpenRadius | +1.0 |
Sharpness (1) | 25 |
Sharpness | Normal |
ShutterSpeed | 1/10 |
ShutterSpeedValue | 1/10 |
Software | Adobe Photoshop CS5 Windows |
SplitToningBalance | 0 |
SplitToningHighlightHue | 0 |
SplitToningHighlightSaturation | 0 |
SplitToningShadowHue | 0 |
SplitToningShadowSaturation | 0 |
SubjectDistanceRange | Unknown |
Tint | -5 |
ToneCurve | 0, 0, 32, 22, 64, 56, 128, 128, 192, 196, 255, 255 |
ToneCurveName | Medium Contrast |
URL_List | |
Version | 6.0 |
VignetteAmount | 0 |
WhiteBalance (1) | As Shot |
WhiteBalance | Auto |