Felt | Verdi |
AlreadyApplied | True |
Aperture | 14.0 |
ApertureValue | 14.0 |
ApproximateFocusDistance | 4294967295 |
Artist | Remi Boe Presttun |
AuthorsPosition | photographer |
AutoLateralCA | 0 |
BitsPerSample | 8 |
Blacks2012 | -22 |
BlueHue | 0 |
BlueSaturation | 0 |
By-line | Remi Boe Presttun |
By-lineTitle | photographer |
CameraProfile | Adobe Standard |
Caption-Abstract | M/S Queen Elizabeth i byfjorden i Bergen. |
CFAPattern | [Red,Green][Green,Blue] |
CircleOfConfusion | 0.030 mm |
Clarity2012 | +6 |
ColorComponents | 3 |
ColorNoiseReduction | 25 |
ColorNoiseReductionDetail | 50 |
ColorTemperature | 5500 |
Contrast | Normal |
Contrast2012 | +4 |
ConvertToGrayscale | False |
Copyright | Remi Boe Presttun |
CopyrightNotice | Remi Boe Presttun |
CreateDate (1) | 2013:06:06 18:00:57.00 |
CreateDate | 2013:06:06 18:00:57 |
Creator | Remi Boe Presttun |
CreatorAddress | Breisteinveien 187 |
CreatorCity | Bergen |
CreatorCountry | Norway |
CreatorPostalCode | 5111 |
CreatorTool | Adobe Photoshop Lightroom 4.3 (Macintosh) |
CreatorWorkEmail | remi@presttunfoto.no |
CreatorWorkTelephone | +47 94 22 68 32 |
CreatorWorkURL | http://www.presttunfoto.no |
CropAngle | -0.979833 |
CropBottom | 0.975014 |
CropConstrainToWarp | 0 |
CropHeight | 4790 |
CropLeft | 0.006929 |
CropRight | 0.993071 |
CropTop | 0.024986 |
CropUnit | pixels |
CropWidth | 7177 |
CustomRendered | Normal |
DateCreated (1) | 2013:06:06 |
DateCreated | 2013:06:06 18:00:57.00 |
DateTimeOriginal | 2013:06:06 18:00:57 |
DefringeGreenAmount | 0 |
DefringeGreenHueHi | 60 |
DefringeGreenHueLo | 40 |
DefringePurpleAmount | 0 |
DefringePurpleHueHi | 70 |
DefringePurpleHueLo | 30 |
Description | M/S Queen Elizabeth i byfjorden i Bergen. |
DigitalZoomRatio | 1 |
DOF | inf (68.70 m - inf) |
Exposure2012 | -1.35 |
ExposureCompensation | +2/3 |
ExposureMode | Auto |
ExposureProgram | Shutter speed priority AE |
ExposureTime | 1/320 |
Flash | Off, Did not fire |
FNumber | 14.0 |
FocalLength | 170.0 mm |
FocalLength35efl | 170.0 mm (35 mm equivalent: 170.0 mm) |
FocalLengthIn35mmFormat | 170 mm |
Format | image/jpeg |
FOV | 12.1 deg |
GainControl | Low gain up |
GrainAmount | 0 |
GreenHue | 0 |
GreenSaturation | 0 |
HasCrop | True |
HasSettings | True |
Highlights2012 | -44 |
HueAdjustmentAqua | 0 |
HueAdjustmentBlue | 0 |
HueAdjustmentGreen | 0 |
HueAdjustmentMagenta | 0 |
HueAdjustmentOrange | 0 |
HueAdjustmentPurple | 0 |
HueAdjustmentRed | 0 |
HueAdjustmentYellow | 0 |
HyperfocalDistance | 68.70 m |
ImageDescription | M/S Queen Elizabeth i byfjorden i Bergen. |
ImageHeight | 4790 |
ImageNumber | 7269 |
ImageSize | 7177x4790 |
ImageWidth | 7177 |
ISO | 400 |
Keywords | bergen, båt, cruice, ms queen elizabeth, norway, remi presttun |
Label | Green |
Lens | 70.0-200.0 mm f/2.8 |
LensID (1) | 162 |
LensID | AF-S Nikkor 70-200mm f/2.8G ED VR II |
LensInfo | 70-200mm f/2.8 |
LensManualDistortionAmount | 0 |
LensModel | 70.0-200.0 mm f/2.8 |
LensProfileEnable | 0 |
LensProfileSetup | LensDefaults |
LightSource | Unknown |
LightValue | 13.9 |
LuminanceAdjustmentAqua | 0 |
LuminanceAdjustmentBlue | 0 |
LuminanceAdjustmentGreen | 0 |
LuminanceAdjustmentMagenta | 0 |
LuminanceAdjustmentOrange | 0 |
LuminanceAdjustmentPurple | 0 |
LuminanceAdjustmentRed | 0 |
LuminanceAdjustmentYellow | 0 |
LuminanceNoiseReductionContrast | 0 |
LuminanceNoiseReductionDetail | 50 |
LuminanceSmoothing | 5 |
Make | NIKON CORPORATION |
MaxApertureValue | 2.8 |
Megapixels | 34.4 |
MeteringMode | Multi-segment |
Model | NIKON D800 |
ModifyDate (1) | 2013:06:08 00:07:24+02:00 |
ModifyDate | 2013:06:08 00:07:24 |
ObjectName | MS Queen Elizabeth |
ParametricDarks | 0 |
ParametricHighlights | 0 |
ParametricHighlightSplit | 75 |
ParametricLights | +25 |
ParametricMidtoneSplit | 50 |
ParametricShadows | 0 |
ParametricShadowSplit | 25 |
PerspectiveHorizontal | 0 |
PerspectiveRotate | 0.0 |
PerspectiveScale | 100 |
PerspectiveVertical | 0 |
PostCropVignetteAmount | 0 |
ProcessVersion | 6.7 |
ProfileDescription | sRGB IEC61966-2.1 |
RedHue | 0 |
RedSaturation | 0 |
Rights | Remi Boe Presttun |
Saturation (1) | +20 |
Saturation | Normal |
SaturationAdjustmentAqua | 0 |
SaturationAdjustmentBlue | 0 |
SaturationAdjustmentGreen | 0 |
SaturationAdjustmentMagenta | 0 |
SaturationAdjustmentOrange | 0 |
SaturationAdjustmentPurple | 0 |
SaturationAdjustmentRed | 0 |
SaturationAdjustmentYellow | 0 |
ScaleFactor35efl | 1.0 |
SceneCaptureType | Standard |
SceneType | Directly photographed |
SensingMethod | One-chip color area |
SensitivityType | Recommended Exposure Index |
SerialNumber | 6094639 |
Shadows2012 | +50 |
ShadowTint | 0 |
SharpenDetail | 26 |
SharpenEdgeMasking | 0 |
SharpenRadius | +1.0 |
Sharpness (1) | 45 |
Sharpness | Normal |
ShutterSpeed | 1/320 |
ShutterSpeedValue | 1/320 |
Software | Adobe Photoshop Lightroom 4.3 (Macintosh) |
SplitToningBalance | 0 |
SplitToningHighlightHue | 0 |
SplitToningHighlightSaturation | 0 |
SplitToningShadowHue | 0 |
SplitToningShadowSaturation | 0 |
Subject | bergen, båt, cruice, ms queen elizabeth, norway, remi presttun |
SubjectDistanceRange | Unknown |
Tint | +10 |
Title | MS Queen Elizabeth |
ToneCurveName2012 | Linear |
ToneCurvePV2012 | 0, 0, 255, 255 |
ToneCurvePV2012Blue | 0, 0, 255, 255 |
ToneCurvePV2012Green | 0, 0, 255, 255 |
ToneCurvePV2012Red | 0, 0, 255, 255 |
Version | 7.3 |
Vibrance | +15 |
VignetteAmount | 0 |
WhiteBalance (1) | Daylight |
WhiteBalance | Auto |
Whites2012 | +34 |